BEGIN:VCALENDAR
VERSION:2.0
PRODID:-//ChamberMaster//Event Calendar 2.0//EN
METHOD:PUBLISH
X-PUBLISHED-TTL:P3D
REFRESH-INTERVAL:P3D
CALSCALE:GREGORIAN
BEGIN:VEVENT
DTSTART:20180221T230000Z
DTEND:20180222T010000Z
X-MICROSOFT-CDO-ALLDAYEVENT:FALSE
SUMMARY:Net-Working It!
DESCRIPTION:CLICK BELOW FOR DETAILS FOR THE 3/21/18 NET-WORKING IT! at Anne K. Salon with Appetizers Provided by Noonan's BBQ & Sports Bar\n\nhttp://www.bataviachamber.org/events/details/net-working-it-03-21-2018-3396
X-ALT-DESC;FMTTYPE=text/html:<div style="text-align: center\;"><br />\n<span style="font-size:28px\;"><strong>CLICK BELOW FOR DETAILS <span style="font-size:36px\;">FOR THE 3/21/18 NET-WORKING IT!</span></strong> </span><span style="font-size:22px\;">at Anne K. Salon with Appetizers Provided by Noonan&#39\;s BBQ &amp\; Sports Bar<br />\n<a href="http://www.bataviachamber.org/events/details/net-working-it-03-21-2018-3396">http://www.bataviachamber.org/events/details/net-working-it-03-21-2018-3396</a></span></div>\n
LOCATION:Anne K. Salon 208 Genesis Way\, North Aurora\, IL 60542
UID:e.1902.3395
SEQUENCE:3
DTSTAMP:20260422T192220Z
URL:http://business.bataviachamber.org/events/details/net-working-it-02-21-2018-3395
END:VEVENT

END:VCALENDAR
