BEGIN:VCALENDAR
VERSION:2.0
PRODID:-//ChamberMaster//Event Calendar 2.0//EN
METHOD:PUBLISH
X-PUBLISHED-TTL:P3D
REFRESH-INTERVAL:P3D
CALSCALE:GREGORIAN
BEGIN:VEVENT
DTSTART:20250517T000000Z
DTEND:20250518T040000Z
X-MICROSOFT-CDO-ALLDAYEVENT:FALSE
SUMMARY:Natalie Cuomo & Dan LaMorte Stand Up Comedy
DESCRIPTION:Join comedians Natalie Cuomo and Dan LaMorte for a hilarious and unique comedy experience live at The Comedy Vault May 16-17! This dynamic duo delivers individual sets followed by a fan-favorite combo set\, blending sharp wit and playful chemistry for a night of unforgettable laughs. Grab your tickets now!
X-ALT-DESC;FMTTYPE=text/html:Join comedians Natalie Cuomo and Dan LaMorte for a hilarious and unique comedy experience live at The Comedy Vault May 16-17! This dynamic duo delivers individual sets followed by a fan-favorite combo set\, blending sharp wit and playful chemistry for a night of unforgettable laughs. Grab your tickets now!
LOCATION:The Comedy Vault
UID:e.1902.26582
SEQUENCE:3
DTSTAMP:20260422T102956Z
URL:http://business.bataviachamber.org/events/details/natalie-cuomo-dan-lamorte-stand-up-comedy-26582
END:VEVENT

END:VCALENDAR
