BEGIN:VCALENDAR
VERSION:2.0
PRODID:-//ChamberMaster//Event Calendar 2.0//EN
METHOD:PUBLISH
X-PUBLISHED-TTL:P3D
REFRESH-INTERVAL:P3D
CALSCALE:GREGORIAN
BEGIN:VEVENT
DTSTART:20250516T230000Z
DTEND:20250517T013000Z
X-MICROSOFT-CDO-ALLDAYEVENT:FALSE
SUMMARY:NAMI KDK 1st Annual Paint n Sip Fundraiser
DESCRIPTION:Join Us for our NAMI KDK 1st Annual Paint n Sip Fundraiser! \n\nSupport Mental Health Awareness Through Art \n\n \n\nYou're invited to our special Paint n Sip Fundraiser in support of NAMI KDK\, dedicated to raising awareness and providing FREE resources for mental health.\n\nCome relax\, express yourself through art\, and contribute to a meaningful cause!\n\n \n\n\n\nRegistration needed\n\n \n\n\n\nWhat to Expect:\n\n\n	Step-by-step painting session   no experience needed!\n	A supportive and fun atmosphere\n\n\n Light refreshments will be served\n\n\n\n Seats are limited\, so reserve yours today! (13 spots left!)\n\n \n\nCan't attend? Consider making a donation to support the cause!\n\n \n\nLet's paint\, connect\, and make a difference one brushstroke at a time!
X-ALT-DESC;FMTTYPE=text/html:<div>\n<div style="text-align:center"><span style="font-size:16px"><strong>Join Us for our NAMI KDK 1st Annual Paint n Sip Fundraiser!&nbsp\;</strong></span></div>\n\n<div style="text-align:center"><span style="font-size:16px">Support Mental Health Awareness Through Art&nbsp\;</span><br />\n&nbsp\;</div>\n\n<div style="text-align:center"><em>You&#39\;re invited to our special Paint n Sip Fundraiser in support of NAMI KDK\, dedicated to raising awareness and providing FREE resources for mental health.<br />\nCome relax\, express yourself through art\, and contribute to a meaningful cause!</em><br />\n&nbsp\;</div>\n</div>\n\n<div>\n<div>Registration needed</div>\n\n<div>&nbsp\;</div>\n</div>\n\n<div>\n<div><strong>What to Expect:</strong></div>\n\n<ul>\n	<li>Step-by-step painting session &ndash\; no experience needed!</li>\n	<li>A supportive and fun atmosphere</li>\n</ul>\n\n<div>&nbsp\;Light refreshments will be served</div>\n</div>\n\n<div>\n<div>&nbsp\;Seats are limited\, so reserve yours today! (13 spots left!)<br />\n&nbsp\;</div>\n\n<div>Can&#39\;t attend? Consider making a donation to support the cause!<br />\n&nbsp\;</div>\n\n<div style="text-align:center"><strong>Let&rsquo\;s paint\, connect\, and make a difference&mdash\;one brushstroke at a time!</strong><br />\n&nbsp\;</div>\n\n<div><br />\n&nbsp\;</div>\n</div>\n
LOCATION:850 Ridgeway Ave. Aurora\, IL
UID:e.1902.29430
SEQUENCE:3
DTSTAMP:20260422T113915Z
URL:http://business.bataviachamber.org/events/details/nami-kdk-1st-annual-paint-n-sip-fundraiser-29430
END:VEVENT

END:VCALENDAR
