BEGIN:VCALENDAR
VERSION:2.0
PRODID:-//ChamberMaster//Event Calendar 2.0//EN
METHOD:PUBLISH
X-PUBLISHED-TTL:P3D
REFRESH-INTERVAL:P3D
CALSCALE:GREGORIAN
BEGIN:VEVENT
DTSTART:20250502T003000Z
DTEND:20250504T040000Z
X-MICROSOFT-CDO-ALLDAYEVENT:FALSE
SUMMARY:Mike Feeney Stand Up Comedy
DESCRIPTION:Don't miss Mike Feeney\, NYC-based comedian and viral sensation\, live at The Comedy Vault May 1-3! As seen on The Tonight Show with Jimmy Fallon and Last Call with Carson Daly\, Mike's high-energy comedy has earned over 150M views online and a #1 comedy album. Get your tickets now for an unforgettable night!
X-ALT-DESC;FMTTYPE=text/html:Don&rsquo\;t miss Mike Feeney\, NYC-based comedian and viral sensation\, live at The Comedy Vault May 1-3! As seen on <em>The Tonight Show with Jimmy Fallon</em> and <em>Last Call with Carson Daly</em>\, Mike&rsquo\;s high-energy comedy has earned over 150M views online and a #1 comedy album. Get your tickets now for an unforgettable night!
LOCATION:The Comedy Vault
UID:e.1902.26580
SEQUENCE:3
DTSTAMP:20260422T113622Z
URL:http://business.bataviachamber.org/events/details/mike-feeney-stand-up-comedy-26580
END:VEVENT

END:VCALENDAR
