BEGIN:VCALENDAR
VERSION:2.0
PRODID:-//ChamberMaster//Event Calendar 2.0//EN
METHOD:PUBLISH
X-PUBLISHED-TTL:P3D
REFRESH-INTERVAL:P3D
CALSCALE:GREGORIAN
BEGIN:VEVENT
DTSTART:20090427T220000Z
DTEND:20090428T000000Z
X-MICROSOFT-CDO-ALLDAYEVENT:FALSE
SUMMARY:''Meet Your Neighbors'' Business After Hours
DESCRIPTION:Join Park Family Eye Care to "Meet Your Neighbors"In an effort to introduce Batavia businesses to their valuable counterparts in North Aurora\, Dr. Bill Park and his staff are inviting you to join them for a casual evening in their beautiful offices conveniently located on Route 31\, just south of West State Street. Stop by for some light refreshments.In addition\, Zeiss and Expert Optics will be raffling a FREE pair of Zeiss Individual High Definition Progressive No line lenses and will demonstrate the fitting of the lenses using Park's I Terminal Computer equipment. Frames are also being donated bringing the value of the raffle to $1000! Bring a business card to enter.The two communities are growing and have many things in common...let's get together and find ways to improve each others' businesses!
X-ALT-DESC;FMTTYPE=text/html:<P align=center><FONT color=#0000ff size=5><STRONG>Join <FONT color=#ff0000>Park Family Eye Care</FONT> to "Meet Your Neighbors"</STRONG></FONT></P><P align=left><FONT size=4><FONT color=#0000ff>In an effort to introduce Batavia businesses to their valuable counterparts in North Aurora\, Dr. Bill Park and his staff are inviting you to join them for a casual evening in their beautiful offices conveniently located on Route 31\, just south of West State Street. Stop by for some light refreshments.</FONT></FONT></P><P align=left><FONT size=4><FONT color=#0000ff>In addition\, Zeiss and Expert Optics will be&nbsp\;raffling a FREE pair of Zeiss Individual High Definition Progressive No line lenses and will demonstrate the fitting of the lenses using Park's&nbsp\;I Terminal Computer equipment. Frames are also being donated bringing the value of the raffle to $1000! Bring a business card to enter.</FONT></P><DIV align=left></FONT><FONT color=#0000ff size=4>The two communities are growing and have many things in common...let's get together and find ways to improve each others' businesses!</FONT></DIV><P align=center><FONT color=#0000ff></P></FONT>
LOCATION:Park Family Eye Care
UID:e.1902.1213
SEQUENCE:3
DTSTAMP:20260421T214940Z
URL:http://business.bataviachamber.org/events/details/meet-your-neighbors-business-after-hours-04-27-2009-1213
END:VEVENT

END:VCALENDAR
