BEGIN:VCALENDAR
VERSION:2.0
PRODID:-//ChamberMaster//Event Calendar 2.0//EN
METHOD:PUBLISH
X-PUBLISHED-TTL:P3D
REFRESH-INTERVAL:P3D
CALSCALE:GREGORIAN
BEGIN:VEVENT
DTSTART:20250517T180000Z
DTEND:20250518T010000Z
X-MICROSOFT-CDO-ALLDAYEVENT:FALSE
SUMMARY:May 'Moosic" Fest and Fundrasier
DESCRIPTION:Our first outdoor Music Fest of the Year in our awesome outdoor venue behind the Batavia Moose Lodge.  Open to the Public.  Great Music! Great Food! Great Drink! Great Fun!  \n\n\n\nMusic Line-up:\n\n1:00 pm The Sociables - A 6-piece acoustic/electric rock band. Their unique brand of entertainment fuses tight vocal harmonies\, stellar guitar tones\, a rock solid rhythm section and keys\, with a focus on performing songs that you love\, but maybe haven't heard a band attempt to perform. Their surprisingly fresh setlists with cuts from artists like Jackson Browne\, Nathaniel Rateliff\, Phil Collins\, Elvis Costello and Inxs will have you singing along and jumping to the dance floor.\n\n\n\n3:30 pm  Magoo and the Intention: An americana power trio blending rock\, folk and blues.  Batavia Moose Member Mike "Magoo" McGohan has shared the stage with artists such as Kid Rock\, Blues Traveler\, Lynyrd Skynyrd\, and more. \n\n\n\n6:00 pm  The Beaver Moon Band -  Led by the soulful voice of lead singer Amy\, this group of established musicians bond over their shared passion for sound\, rhythm and beats. Each member brings a diverse and unique musical aesthetic to the band and over the years\, have grown comfortable jumping genres and mashing up influences.\n\n\n\nSponsored by the Batavia Moose Riders.   $15 charitable cover charge at the gate.  $20 includes BBQ Pulled Pork meal.  Age 12 and under entry is free.  Bring your lawn/bag chairs.  All net proceeds help the Batavia Moose Lodge support the children at Mooseheart Child City and School and other local charitable organizations.
X-ALT-DESC;FMTTYPE=text/html:<span style="color: rgb(31\, 31\, 31)\; font-family: &quot\;google sans text&quot\;\, &quot\;google sans&quot\;\, helvetica\, arial\, sans-serif\; font-size: 14px\;">Our first outdoor Music Fest of the Year in our awesome outdoor venue behind the Batavia Moose Lodge.&nbsp\; Open to the Public.&nbsp\; Great Music! Great Food! Great Drink! Great Fun! &nbsp\;</span><br />\n<br />\n<span style="color: rgb(31\, 31\, 31)\; font-family: &quot\;google sans text&quot\;\, &quot\;google sans&quot\;\, helvetica\, arial\, sans-serif\; font-size: 14px\;">Music Line-up:</span><br />\n<span style="color: rgb(31\, 31\, 31)\; font-family: &quot\;google sans text&quot\;\, &quot\;google sans&quot\;\, helvetica\, arial\, sans-serif\; font-size: 14px\;">1:00 pm The Sociables -&nbsp\;</span><span style="color: rgb(31\, 31\, 31)\; font-family: &quot\;google sans text&quot\;\, &quot\;google sans&quot\;\, helvetica\, arial\, sans-serif\; font-size: 14px\;">A 6-piece acoustic/electric rock band. Their unique brand of entertainment fuses tight vocal harmonies\, stellar guitar tones\, a rock solid rhythm section and keys\, with a focus on performing songs that you love\, but maybe haven&rsquo\;t heard a band attempt to perform. Their surprisingly fresh setlists with cuts from artists like Jackson Browne\, Nathaniel Rateliff\, Phil Collins\, Elvis Costello and Inxs will have you singing along and jumping to the dance floor.</span><br />\n<br />\n<span style="color: rgb(31\, 31\, 31)\; font-family: &quot\;google sans text&quot\;\, &quot\;google sans&quot\;\, helvetica\, arial\, sans-serif\; font-size: 14px\;">3:30 pm&nbsp\;&nbsp\;Magoo and the Intention: An americana power trio blending rock\, folk and blues.&nbsp\; Batavia Moose Member Mike &ldquo\;Magoo&rdquo\; McGohan has shared the stage with artists such as Kid Rock\, Blues Traveler\, Lynyrd Skynyrd\, and more.&nbsp\;</span><br />\n<br />\n<span style="color: rgb(31\, 31\, 31)\; font-family: &quot\;google sans text&quot\;\, &quot\;google sans&quot\;\, helvetica\, arial\, sans-serif\; font-size: 14px\;">6:00 pm &nbsp\;The Beaver Moon Band - &nbsp\;Led by the soulful voice of lead singer Amy\, this group of established musicians bond over their shared passion for sound\, rhythm and beats. Each member brings a diverse and unique musical aesthetic to the band and over the years\, have grown comfortable jumping genres and mashing up influences.</span><br />\n<br />\n<span style="color: rgb(31\, 31\, 31)\; font-family: &quot\;google sans text&quot\;\, &quot\;google sans&quot\;\, helvetica\, arial\, sans-serif\; font-size: 14px\;">Sponsored by the Batavia Moose Riders.&nbsp\; &nbsp\;$15 charitable cover charge at the gate.&nbsp\; $20 includes BBQ Pulled Pork meal.&nbsp\; Age 12 and under entry is free.&nbsp\; Bring your lawn/bag chairs.&nbsp\; All net proceeds help the Batavia Moose Lodge support the children at Mooseheart Child City and School and other local charitable organizations.</span>
LOCATION:Batavia Moose Lodge 1535 S. Batavia Avenue Batavia\, IL 60510
UID:e.1902.29334
SEQUENCE:3
DTSTAMP:20260422T101504Z
URL:http://business.bataviachamber.org/events/details/may-moosic-fest-and-fundrasier-29334
END:VEVENT

END:VCALENDAR
