BEGIN:VCALENDAR
VERSION:2.0
PRODID:-//ChamberMaster//Event Calendar 2.0//EN
METHOD:PUBLISH
X-PUBLISHED-TTL:P3D
REFRESH-INTERVAL:P3D
CALSCALE:GREGORIAN
BEGIN:VEVENT
DTSTART:20250207T013000Z
DTEND:20250209T050000Z
X-MICROSOFT-CDO-ALLDAYEVENT:FALSE
SUMMARY:Matt Braunger StandUp Comedy
DESCRIPTION:Catch Matt Braunger\, a top comedian and actor\, live at The Comedy Vault Feb 6-8! Known for his roles in MADtv\, Agent Carter\, and Upload\, as well as his hit specials Shovel Fighter and Doug\, Matt brings his sharp wit and storytelling to the stage. Don't miss this comedy veteran and festival favorite!
X-ALT-DESC;FMTTYPE=text/html:Catch Matt Braunger\, a top comedian and actor\, live at The Comedy Vault Feb 6-8! Known for his roles in <em>MADtv</em>\, <em>Agent Carter</em>\, and <em>Upload</em>\, as well as his hit specials <em>Shovel Fighter</em> and <em>Doug</em>\, Matt brings his sharp wit and storytelling to the stage. Don&rsquo\;t miss this comedy veteran and festival favorite!
LOCATION:The Comedy Vault 18 E. Wilson St. Batavia\, IL 60510
UID:e.1902.26569
SEQUENCE:3
DTSTAMP:20260422T150311Z
URL:http://business.bataviachamber.org/events/details/matt-braunger-standup-comedy-26569
END:VEVENT

END:VCALENDAR
