BEGIN:VCALENDAR
VERSION:2.0
PRODID:-//ChamberMaster//Event Calendar 2.0//EN
METHOD:PUBLISH
X-PUBLISHED-TTL:P3D
REFRESH-INTERVAL:P3D
CALSCALE:GREGORIAN
BEGIN:VEVENT
DTSTART:20250302T030000Z
DTEND:20250302T050000Z
X-MICROSOFT-CDO-ALLDAYEVENT:FALSE
SUMMARY:Marques Morel 'Fireside' at Sidecar
DESCRIPTION:Come for dinner\, stay for a show! Serving Prime Rib every Friday & Saturday! Indoor shows take place 'fireside' in our cozy dining space. All ages. No Cover. Originally from the Illinois corn country\, he has performed just about anywhere that anybody would listen: big city street corners around the world\, county fairs\, folk festivals\, hole in the wall taverns/divebars/honky tonks\, cabin porches\, backyard barbeques\, listening rooms\, theatres large and small\, and beside many campfires and woodstoves amongst the ghosts of his songwriter heroes. Marques has had the honor of sharing stages with some of the great songsters of our time- Charlie Parr\, Arlo McKinley\, Joe Pug\, Willy Tea Taylor\, Riley Downing\, Billy Don Burns\, Pokey LaFarge\, and Chicago Farmer to name a few of his favorites
X-ALT-DESC;FMTTYPE=text/html:Come for dinner\, stay for a show! Serving Prime Rib every Friday &amp\; Saturday! Indoor shows take place &#39\;fireside&#39\; in our cozy dining space. All ages. No Cover. Originally from the Illinois corn country\, he has performed just about anywhere that anybody would listen: big city street corners around the world\, county fairs\, folk festivals\, hole in the wall taverns/divebars/honky tonks\, cabin porches\, backyard barbeques\, listening rooms\, theatres large and small\, and beside many campfires and woodstoves amongst the ghosts of his songwriter heroes. Marques has had the honor of sharing stages with some of the great songsters of our time- Charlie Parr\, Arlo McKinley\, Joe Pug\, Willy Tea Taylor\, Riley Downing\, Billy Don Burns\, Pokey LaFarge\, and Chicago Farmer to name a few of his favorites
LOCATION:Sidecar Supper Club 12 N. River Street Batavia\, IL 60510
UID:e.1902.29363
SEQUENCE:3
DTSTAMP:20260422T150245Z
URL:http://business.bataviachamber.org/events/details/marques-morel-fireside-at-sidecar-29363
END:VEVENT

END:VCALENDAR
