BEGIN:VCALENDAR
VERSION:2.0
PRODID:-//ChamberMaster//Event Calendar 2.0//EN
METHOD:PUBLISH
X-PUBLISHED-TTL:P3D
REFRESH-INTERVAL:P3D
CALSCALE:GREGORIAN
BEGIN:VEVENT
DTSTART:20090115T140000Z
DTEND:20090115T153000Z
X-MICROSOFT-CDO-ALLDAYEVENT:FALSE
SUMMARY:Make Stand-Out Service Your Finest Asset - Session 1
DESCRIPTION:Servicing Customers is an art\, but it is the key to gaining customer loyalty. Customer service touches everyone\, and a positive experience is the best way to build business and keep customers coming back.The basics of good serviceHow to build strong relationshipsSimple actions that yield big resultsHandling difficult customers
X-ALT-DESC;FMTTYPE=text/html:<DIV style="FONT-FAMILY: Arial">Servicing Customers is an art\, but it is the key to gaining customer loyalty. Customer service touches everyone\, and a positive experience is the best way to build business and keep customers coming back.</DIV><UL><LI><DIV style="FONT-FAMILY: Arial">The basics of good service</DIV></LI><LI><DIV style="FONT-FAMILY: Arial">How to build strong relationships</DIV></LI><LI><DIV style="FONT-FAMILY: Arial">Simple actions that yield big results</DIV></LI><LI><DIV style="FONT-FAMILY: Arial">Handling difficult customers</DIV></LI></UL>
LOCATION:Riverview Banquets
UID:e.1902.1800
SEQUENCE:3
DTSTAMP:20260422T025631Z
URL:http://business.bataviachamber.org/events/details/make-stand-out-service-your-finest-asset-session-1-01-15-2009-1800
END:VEVENT

END:VCALENDAR
