BEGIN:VCALENDAR
VERSION:2.0
PRODID:-//ChamberMaster//Event Calendar 2.0//EN
METHOD:PUBLISH
X-PUBLISHED-TTL:P3D
REFRESH-INTERVAL:P3D
CALSCALE:GREGORIAN
BEGIN:VEVENT
DTSTART:20080922T123000Z
DTEND:20080922T143000Z
X-MICROSOFT-CDO-ALLDAYEVENT:FALSE
SUMMARY:Legislative Breakfast
DESCRIPTION:If you are concerned about what is happening in Springfield and Washington\, be certain to attend the Chamber's annual Legislative Breakfast. Congressman Foster has been invited to join us\, as well as the State Senators and Representatives whose districts cover Batavia. This is always a fascinating session and a chance to talk with your legislators in person. (RSVP\, $25 for members)
X-ALT-DESC;FMTTYPE=text/html:If you are concerned about what is happening in Springfield and Washington\, be certain to attend the Chamber's annual Legislative Breakfast. Congressman Foster has been invited to join us\, as well as the State Senators and Representatives whose districts cover Batavia. This is always a fascinating session and a chance to talk with your legislators in person. (RSVP\, $25 for members)
LOCATION:Piper's Banquets
UID:e.1902.1435
SEQUENCE:3
DTSTAMP:20260422T095739Z
URL:http://business.bataviachamber.org/events/details/legislative-breakfast-09-22-2008-1435
END:VEVENT

END:VCALENDAR
