BEGIN:VCALENDAR
VERSION:2.0
PRODID:-//ChamberMaster//Event Calendar 2.0//EN
METHOD:PUBLISH
X-PUBLISHED-TTL:P3D
REFRESH-INTERVAL:P3D
CALSCALE:GREGORIAN
BEGIN:VEVENT
DTSTART:20090713T123000Z
DTEND:20090713T133000Z
X-MICROSOFT-CDO-ALLDAYEVENT:FALSE
SUMMARY:Legislative Affairs Committee with State Rep. Kay Hatcher
DESCRIPTION:Here is your chance to speak directly to one of our newest state representatives\, Representative Kay Hatcher. Rep. Hatcher has generously agreed to visit with our Legislative Affairs Commitee\, and the entire Chamber is welcome. Please plan to be there to discuss the initiatives in Springfield that matter to you.
X-ALT-DESC;FMTTYPE=text/html:<DIV>Here is your chance to speak directly to one of our newest state representatives\, Representative Kay Hatcher.&nbsp\;Rep. Hatcher has generously agreed to visit with our Legislative Affairs Commitee\, and the entire Chamber is welcome.&nbsp\;Please plan to be there to discuss the initiatives in Springfield that matter to you.</DIV>
LOCATION:Panera Bread
UID:e.1902.1487
SEQUENCE:3
DTSTAMP:20260421T163325Z
URL:http://business.bataviachamber.org/events/details/legislative-affairs-committee-with-state-rep-kay-hatcher-07-13-2009-1487
END:VEVENT

END:VCALENDAR
