BEGIN:VCALENDAR
VERSION:2.0
PRODID:-//ChamberMaster//Event Calendar 2.0//EN
METHOD:PUBLISH
X-PUBLISHED-TTL:P3D
REFRESH-INTERVAL:P3D
CALSCALE:GREGORIAN
BEGIN:VEVENT
DTSTART:20090810T123000Z
DTEND:20090810T133000Z
X-MICROSOFT-CDO-ALLDAYEVENT:FALSE
SUMMARY:Legislative Affairs Committee with Senator Chris Lauzen
DESCRIPTION:Here is your chance to speak directly to one of the most business-friendly state legislators\, State Senator Chris Lauzen. Sen. Lauzen has generously agreed to visit with our Legislative Affairs Committee\, and entire Chamber is welcome. Please plan to be there to show the Senator that he has our support for his initiatives in Springfield.
X-ALT-DESC;FMTTYPE=text/html:<DIV>Here is your chance to speak directly to one of the most&nbsp\;business-friendly state legislators\, State Senator Chris Lauzen.&nbsp\;Sen. Lauzen&nbsp\;has generously agreed to visit with our Legislative Affairs Committee\, and entire Chamber is welcome.&nbsp\;Please plan to be there to show the Senator that he has our support for his initiatives in Springfield.</DIV>
LOCATION:City of Batavia
UID:e.1902.1488
SEQUENCE:3
DTSTAMP:20260421T144427Z
URL:http://business.bataviachamber.org/events/details/legislative-affairs-committee-with-senator-chris-lauzen-08-10-2009-1488
END:VEVENT

END:VCALENDAR
