BEGIN:VCALENDAR
VERSION:2.0
PRODID:-//ChamberMaster//Event Calendar 2.0//EN
METHOD:PUBLISH
X-PUBLISHED-TTL:P3D
REFRESH-INTERVAL:P3D
CALSCALE:GREGORIAN
BEGIN:VEVENT
DTSTART:20100520T130000Z
DTEND:20100520T150000Z
X-MICROSOFT-CDO-ALLDAYEVENT:FALSE
SUMMARY:Learning from the SURVIVORS!
DESCRIPTION:Learning from the SURVIVORS! What exactly does it take to make a business survive and grow for many years? Come hear from 4 very successful Batavia Business owners who have been there and thrived! Learn lessons from:Bob Hansen of Funway\,Roger Harris of Producers Chemical\,Marcia Boyce of Boyce Body Werks\, andJanice Christiansen of FlagSourceIf you want to learn more about how to grow a business\, survive\, thrive and sustain your business\, you need look no further than right here in the Batavia Chamber of Commerce!
X-ALT-DESC;FMTTYPE=text/html:<DIV style="FONT-FAMILY: Arial" align=center><FONT face="Times New Roman" color=#000080 size=5><STRONG>Learning from the SURVIVORS!</STRONG></FONT></DIV><DIV style="FONT-FAMILY: Arial" align=center><STRONG><FONT face="Times New Roman" color=#000080 size=5></FONT></STRONG>&nbsp\;</DIV><DIV style="FONT-FAMILY: Arial" align=left><FONT face="Times New Roman" color=#0000ff size=4><STRONG>What exactly does it take to make a business survive and grow for many years? Come hear from 4 very successful Batavia Business owners who have been there and thrived!</STRONG></FONT></DIV><DIV style="FONT-FAMILY: Arial" align=left><STRONG><FONT face="Times New Roman" color=#0000ff size=4></FONT></STRONG>&nbsp\;</DIV><DIV style="FONT-FAMILY: Arial" align=left><STRONG><FONT face="Times New Roman" color=#0000ff size=4>Learn lessons&nbsp\;from:</FONT></STRONG></DIV><BLOCKQUOTE dir=ltr style="MARGIN-RIGHT: 0px"><BLOCKQUOTE dir=ltr style="MARGIN-RIGHT: 0px"><BLOCKQUOTE dir=ltr style="MARGIN-RIGHT: 0px"><DIV style="FONT-FAMILY: Arial" align=left><STRONG><FONT face="Times New Roman" color=#0000ff size=4><FONT color=#000040>Bob Hansen of Funway\,</FONT></FONT></STRONG></DIV></BLOCKQUOTE></BLOCKQUOTE></BLOCKQUOTE><BLOCKQUOTE dir=ltr style="MARGIN-RIGHT: 0px"><BLOCKQUOTE dir=ltr style="MARGIN-RIGHT: 0px"><BLOCKQUOTE dir=ltr style="MARGIN-RIGHT: 0px"><DIV style="FONT-FAMILY: Arial" align=left><STRONG><FONT face="Times New Roman" color=#0000ff size=4><FONT color=#000040>Roger Harris of Producers Chemical\,</FONT></FONT></STRONG></DIV></BLOCKQUOTE></BLOCKQUOTE></BLOCKQUOTE><BLOCKQUOTE dir=ltr style="MARGIN-RIGHT: 0px"><BLOCKQUOTE dir=ltr style="MARGIN-RIGHT: 0px"><BLOCKQUOTE dir=ltr style="MARGIN-RIGHT: 0px"><DIV style="FONT-FAMILY: Arial" align=left><STRONG><FONT face="Times New Roman" color=#0000ff size=4><FONT color=#000040>Marcia Boyce of Boyce Body Werks\, and</FONT></FONT></STRONG></DIV></BLOCKQUOTE></BLOCKQUOTE></BLOCKQUOTE><BLOCKQUOTE dir=ltr style="MARGIN-RIGHT: 0px"><BLOCKQUOTE dir=ltr style="MARGIN-RIGHT: 0px"><BLOCKQUOTE dir=ltr style="MARGIN-RIGHT: 0px"><DIV style="FONT-FAMILY: Arial" align=left><STRONG><FONT face="Times New Roman" color=#0000ff size=4><FONT color=#000040>Janice Christiansen of FlagSource</FONT></FONT></STRONG></DIV></BLOCKQUOTE></BLOCKQUOTE></BLOCKQUOTE><DIV style="FONT-FAMILY: Arial" align=left><STRONG><FONT face="Times New Roman" color=#0000ff size=4>If you want to learn more about how to grow a business\, survive\, thrive and sustain your business\, you need look no further than right here in the Batavia Chamber of Commerce!</FONT></STRONG></DIV>
LOCATION:Comfort Inn & Suites Geneva
UID:e.1902.1830
SEQUENCE:3
DTSTAMP:20260420T222403Z
URL:http://business.bataviachamber.org/events/details/learning-from-the-survivors-05-20-2010-1830
END:VEVENT

END:VCALENDAR
