BEGIN:VCALENDAR
VERSION:2.0
PRODID:-//ChamberMaster//Event Calendar 2.0//EN
METHOD:PUBLISH
X-PUBLISHED-TTL:P3D
REFRESH-INTERVAL:P3D
CALSCALE:GREGORIAN
BEGIN:VEVENT
DTSTART:20090514T163000Z
DTEND:20090514T183000Z
X-MICROSOFT-CDO-ALLDAYEVENT:FALSE
SUMMARY:Learning from the Legends - Chamber Lunch with Dick Hansen
DESCRIPTION:Dick Hansen was President and CEO of Furnas Electric in Batavia until its sale in 1996 to Siemens Electric. Under his leadership\, Furnas grew dramatically\, selling its motor control products worldwide in a very competitive industry. Dick and his management team implemented world-class management practices well ahead of their time. Join us as Dick recounts the philosophy and practices that enabled the company to establish a leadership position within the industrial control industry.As a special treat\, those who wish to stay will be enthralled to hear the story of the recovery and restoration of a WWII airplane from the bottom of Lake Michigan. Dick will show a fascinating video and answer your questions about one of his first loves...flying!
X-ALT-DESC;FMTTYPE=text/html:<FONT face=Arial><P align=left><FONT face="Times New Roman" color=#0000ff><SPAN style="FONT-SIZE: small"><SPAN style="FONT-FAMILY: Arial\, Helvetica\, sans-serif"><STRONG>Dick Hansen was President and CEO of Furnas Electric in Batavia until its sale in 1996 to Siemens Electric. Under his leadership\, Furnas grew dramatically\, selling its&nbsp\;motor&nbsp\;control products worldwide in a very competitive industry. Dick and his management team implemented world-class management practices well ahead of their time.&nbsp\;Join us as Dick recounts the philosophy and practices that enabled the company to establish a leadership position within the industrial control industry.</STRONG></SPAN></SPAN></FONT></P><P align=left><FONT face="Times New Roman"><SPAN style="FONT-SIZE: small"><SPAN style="FONT-FAMILY: Arial\, Helvetica\, sans-serif"><STRONG><FONT color=#0000ff>As a special treat\, those who wish to stay will be enthralled to hear the story of the recovery and restoration of a WWII airplane from the bottom of Lake Michigan. Dick will show a fascinating video and answer your questions about one of his first loves...flying!</FONT></STRONG></P></SPAN></SPAN></FONT></FONT>
LOCATION:Riverview Banquets
UID:e.1902.1529
SEQUENCE:3
DTSTAMP:20260421T200853Z
URL:http://business.bataviachamber.org/events/details/learning-from-the-legends-chamber-lunch-with-dick-hansen-05-14-2009-1529
END:VEVENT

END:VCALENDAR
