BEGIN:VCALENDAR
VERSION:2.0
PRODID:-//ChamberMaster//Event Calendar 2.0//EN
METHOD:PUBLISH
X-PUBLISHED-TTL:P3D
REFRESH-INTERVAL:P3D
CALSCALE:GREGORIAN
BEGIN:VEVENT
DTSTART:20171011T123000Z
DTEND:20171011T141500Z
X-MICROSOFT-CDO-ALLDAYEVENT:FALSE
SUMMARY:Large Business Owner Forum-Presentation
DESCRIPTION:This is a special event where the Owners are traveling off site to participate in a presentation at Waubonsee Community College\n\n\n\nInterested in joining a group of business owners?\n\n	 Use this as an opportunity to discuss a variety of business issues (HR\, taxes\, hiring/firing\, marketing\, growth opportunities\, legal issues\, customer service\, etc.) in a confidential setting.\n	Time is spent getting viewpoints and feedback from other owners on tough situations that arise throughout the cycle of business.\n	This is NOT a networking or leads group\n\nIf you would like to be considered for this group\, please let us know!
X-ALT-DESC;FMTTYPE=text/html:<span style="line-height: 20.7999992370605px\;">This is a special event where the Owners are traveling off site to participate in a presentation at Waubonsee Community College<br />\n<br />\nInterested in joining a group of business owners?</span>\n<ul style="line-height: 20.7999992370605px\;">\n	<li>&#8203\;Use this as an opportunity to discuss a variety of business issues (HR\, taxes\, hiring/firing\, marketing\, growth opportunities\, legal issues\, customer service\, etc.) in a confidential setting.</li>\n	<li>Time is spent getting viewpoints and feedback from other owners on tough situations that arise throughout the cycle of business.</li>\n	<li>This is NOT a networking or leads group</li>\n</ul>\nIf you would like to be considered for this group\, please let us know!
LOCATION:Waubonsee Community College Downtown Aurora Campus 18 S. River Street\, Aurora Community Room 160
UID:e.1902.3937
SEQUENCE:3
DTSTAMP:20260422T113814Z
URL:http://business.bataviachamber.org/events/details/large-business-owner-forum-presentation-3937
END:VEVENT

END:VCALENDAR
