BEGIN:VCALENDAR
VERSION:2.0
PRODID:-//ChamberMaster//Event Calendar 2.0//EN
METHOD:PUBLISH
X-PUBLISHED-TTL:P3D
REFRESH-INTERVAL:P3D
CALSCALE:GREGORIAN
BEGIN:VEVENT
DTSTART:20250413T230000Z
DTEND:20250414T010000Z
X-MICROSOFT-CDO-ALLDAYEVENT:FALSE
SUMMARY:Kristen Toomey Stand Up Comedy
DESCRIPTION:Kristen Toomey returns to The Comedy Vault on April 13th for a night of high-energy\, unapologetically truthful stand-up! With viral reels amassing over 20M views\, a #1 comedy album\, and festival credits like Just For Laughs and Netflix Is A Joke 2024\, Kristen is a must-see force in comedy. Tickets: $15 online | $20 at the door. Grab yours now!
X-ALT-DESC;FMTTYPE=text/html:Kristen Toomey returns to The Comedy Vault on April 13th for a night of high-energy\, unapologetically truthful stand-up! With viral reels amassing over 20M views\, a #1 comedy album\, and festival credits like Just For Laughs and Netflix Is A Joke 2024\, Kristen is a must-see force in comedy. Tickets: $15 online | $20 at the door. Grab yours now!
LOCATION:The Comedy Vault 18 E. Wilson Street Batavia\, IL 60510
UID:e.1902.29353
SEQUENCE:3
DTSTAMP:20260422T113914Z
URL:http://business.bataviachamber.org/events/details/kristen-toomey-stand-up-comedy-29353
END:VEVENT

END:VCALENDAR
