BEGIN:VCALENDAR
VERSION:2.0
PRODID:-//ChamberMaster//Event Calendar 2.0//EN
METHOD:PUBLISH
X-PUBLISHED-TTL:P3D
REFRESH-INTERVAL:P3D
CALSCALE:GREGORIAN
BEGIN:VEVENT
DTSTART:20250621T180000Z
DTEND:20250622T020000Z
X-MICROSOFT-CDO-ALLDAYEVENT:FALSE
SUMMARY:KICK-OFF TO SUMMER @ GRAINOLOGY BREWSTILLERY
DESCRIPTION:Celebrate the longest day of the year in the Beer Garden & Parking Lot at Grainology Brewstillery!\n\n\n\nFree Admission\n\nBeer Garden & Parking Lot \n\n\n\nIncredible Music\n\nThe Old Fashioneds start at 1 PM\n\nSammy and the Knights start at 5 PM\n\n\n\nGreat food \n\nThe grill fires up @ 3 PM with The Knights of Columbus BBQ Team\n\nFood - $10/person online or $15/person at the door\n\n\n\nA portion of the proceeds will be donated to the Chip-In Batavia and Ronald McDonald House of Chicago and Northwest Indiana.
X-ALT-DESC;FMTTYPE=text/html:<strong>Celebrate the longest day of the year in the Beer Garden &amp\; Parking Lot at Grainology Brewstillery!</strong><br />\n<br />\n<strong><u>Free Admission</u></strong><br />\n<strong>Beer Garden &amp\; Parking Lot </strong><br />\n<br />\n<strong><u>Incredible Music</u></strong><br />\n<strong>The Old Fashioneds start at 1 PM</strong><br />\n<strong>Sammy and the Knights start at 5 PM</strong><br />\n<br />\n<strong><u>Great food&nbsp\;</u></strong><br />\n<strong>The grill fires up @ 3 PM with&nbsp\;</strong><strong>The Knights of Columbus BBQ Team</strong><br />\n<strong>Food - $10/person online or $15/person at the door</strong><br />\n<br />\n<strong>A portion of the proceeds will be donated to the Chip-In Batavia and Ronald McDonald House of Chicago and Northwest Indiana.</strong>
LOCATION:The Beer Garden and Parking Lot 131 Flinn St. Batavia\, IL 60510
UID:e.1902.29558
SEQUENCE:3
DTSTAMP:20260422T091557Z
URL:http://business.bataviachamber.org/events/details/kick-off-to-summer-grainology-brewstillery-29558
END:VEVENT

END:VCALENDAR
