BEGIN:VCALENDAR
VERSION:2.0
PRODID:-//ChamberMaster//Event Calendar 2.0//EN
METHOD:PUBLISH
X-PUBLISHED-TTL:P3D
REFRESH-INTERVAL:P3D
CALSCALE:GREGORIAN
BEGIN:VEVENT
DTSTART:20250303T013000Z
DTEND:20250303T030000Z
X-MICROSOFT-CDO-ALLDAYEVENT:FALSE
SUMMARY:Kevin James Thornton Stand Up Comedy
DESCRIPTION:Don't miss Kevin James Thornton\, the viral sensation with nearly 3 million followers\, live at The Comedy Vault for one night only on March 2! Known for his hilarious and heartfelt reflections on growing up gay in a religious community\, Kevin's unique blend of comedy and storytelling has captivated audiences worldwide. Get your tickets now!
X-ALT-DESC;FMTTYPE=text/html:Don&rsquo\;t miss Kevin James Thornton\, the viral sensation with nearly 3 million followers\, live at The Comedy Vault for one night only on March 2! Known for his hilarious and heartfelt reflections on growing up gay in a religious community\, Kevin&rsquo\;s unique blend of comedy and storytelling has captivated audiences worldwide. Get your tickets now!
LOCATION:The Comedy Vault
UID:e.1902.26573
SEQUENCE:3
DTSTAMP:20260422T132823Z
URL:http://business.bataviachamber.org/events/details/kevin-james-thornton-standup-comedy-26573
END:VEVENT

END:VCALENDAR
