BEGIN:VCALENDAR
VERSION:2.0
PRODID:-//ChamberMaster//Event Calendar 2.0//EN
METHOD:PUBLISH
X-PUBLISHED-TTL:P3D
REFRESH-INTERVAL:P3D
CALSCALE:GREGORIAN
BEGIN:VEVENT
DTSTART:20250501T003000Z
DTEND:20250501T020000Z
X-MICROSOFT-CDO-ALLDAYEVENT:FALSE
SUMMARY:Kevin Farley Stand Up Comedy
DESCRIPTION:Comedy veteran Kevin Farley is heading back to The Comedy Vault for one night only on April 30th! Known for his roles in Black Sheep\, The Waterboy\, and F is for Family\, Farley brings his signature humor and high-energy stand-up to the stage. Don't miss this night of nonstop laughs grab your tickets now before they're gone!
X-ALT-DESC;FMTTYPE=text/html:Comedy veteran Kevin Farley is heading back to The Comedy Vault for one night only on April 30th! Known for his roles in Black Sheep\, The Waterboy\, and F is for Family\, Farley brings his signature humor and high-energy stand-up to the stage. Don&rsquo\;t miss this night of nonstop laughs&mdash\;grab your tickets now before they&rsquo\;re gone!
LOCATION:The Comedy Vault
UID:e.1902.29398
SEQUENCE:3
DTSTAMP:20260422T113822Z
URL:http://business.bataviachamber.org/events/details/kevin-farley-stand-up-comedy-29398
END:VEVENT

END:VCALENDAR
