BEGIN:VCALENDAR
VERSION:2.0
PRODID:-//ChamberMaster//Event Calendar 2.0//EN
METHOD:PUBLISH
X-PUBLISHED-TTL:P3D
REFRESH-INTERVAL:P3D
CALSCALE:GREGORIAN
BEGIN:VEVENT
DTSTART:20090505T163000Z
DTEND:20090505T183000Z
X-MICROSOFT-CDO-ALLDAYEVENT:FALSE
SUMMARY:Kane County Update Multi-Chamber Lunch
DESCRIPTION:Join us to hear County Board Chair Karen McConnaughay\, John Hoscheit and Phil Buss discuss the current state of Kane County. We will be hosted by the St. Charles Chamber of Commerce.
X-ALT-DESC;FMTTYPE=text/html:<FONT face=Arial><FONT color=#0000ff><P align=left><FONT face="Times New Roman" color=#800000 size=4>Join us to hear County Board Chair Karen McConnaughay\, John Hoscheit and Phil Buss discuss the current state of Kane County.&nbsp\;We will be hosted by the St. Charles Chamber of Commerce.</FONT><FONT face="Times New Roman" color=#0000ff size=4><SPAN style="FONT-SIZE: small"><FONT size=2><SPAN style="FONT-FAMILY: Arial\, Helvetica\, sans-serif"></P></SPAN></FONT></SPAN></FONT></FONT></FONT>
LOCATION:Mill Creek Golf Club
UID:e.1902.1530
SEQUENCE:3
DTSTAMP:20260421T200209Z
URL:http://business.bataviachamber.org/events/details/kane-county-update-multi-chamber-lunch-05-05-2009-1530
END:VEVENT

END:VCALENDAR
