BEGIN:VCALENDAR
VERSION:2.0
PRODID:-//ChamberMaster//Event Calendar 2.0//EN
METHOD:PUBLISH
X-PUBLISHED-TTL:P3D
REFRESH-INTERVAL:P3D
CALSCALE:GREGORIAN
BEGIN:VEVENT
DTSTART:20081108T160000Z
DTEND:20081109T000000Z
X-MICROSOFT-CDO-ALLDAYEVENT:FALSE
SUMMARY:K.Hollis Jewelers Grand Reopening
DESCRIPTION:Join Karen Hollis for the grand reopening of the expanded K.Hollis Jewelers.She and her staff are planning very special events that day. John Paul Weidemann will be presenting a special collection of fine colored gemstones - and will be share stories about the origin of the raw gemstones\, the experts who cut the raw gemstones and the experiences he has had traveling the world in search of rare gems. They will also be giving away tickets to win a $500 K.Hollis Jewelers gift certificate at the end of the day. There will also be refreshments\, music and specials.
X-ALT-DESC;FMTTYPE=text/html:<P align=left>Join Karen Hollis for the grand reopening of the expanded K.Hollis Jewelers.</P><P align=left>She and her staff are planning&nbsp\;very special events that day. John Paul&nbsp\;Weidemann will be presenting a special collection of fine colored&nbsp\;gemstones - and will be share stories about the origin of the raw&nbsp\;gemstones\, the experts who cut the raw gemstones and the experiences&nbsp\;he has had traveling the world in search of rare gems. They will also be&nbsp\;giving away tickets to win a $500 K.Hollis Jewelers gift certificate&nbsp\;at the end of the day. There will also be refreshments\, music and&nbsp\;specials.</P>
LOCATION:K. Hollis Jewelers
UID:e.1902.1723
SEQUENCE:3
DTSTAMP:20260422T063744Z
URL:http://business.bataviachamber.org/events/details/k-hollis-jewelers-grand-reopening-11-08-2008-1723
END:VEVENT

END:VCALENDAR
