BEGIN:VCALENDAR
VERSION:2.0
PRODID:-//ChamberMaster//Event Calendar 2.0//EN
METHOD:PUBLISH
X-PUBLISHED-TTL:P3D
REFRESH-INTERVAL:P3D
CALSCALE:GREGORIAN
BEGIN:VEVENT
DTSTART:20250510T000000Z
DTEND:20250511T040000Z
X-MICROSOFT-CDO-ALLDAYEVENT:FALSE
SUMMARY:JP Sears Stand Up Comedy
DESCRIPTION:Catch JP Sears\, comedian\, author\, and YouTube sensation\, live at The Comedy Vault May 9-10! Known for his satirical takes on politics\, fitness\, and faith\, JP combines laughter and thought-provoking insights in a unique comedy experience. VIP and GA tickets available don't miss it!
X-ALT-DESC;FMTTYPE=text/html:Catch JP Sears\, comedian\, author\, and YouTube sensation\, live at The Comedy Vault May 9-10! Known for his satirical takes on politics\, fitness\, and faith\, JP combines laughter and thought-provoking insights in a unique comedy experience. VIP and GA tickets available&mdash\;don&rsquo\;t miss it!
LOCATION:The Comedy Vault
UID:e.1902.26581
SEQUENCE:3
DTSTAMP:20260422T101332Z
URL:http://business.bataviachamber.org/events/details/jp-sears-stand-up-comedy-26581
END:VEVENT

END:VCALENDAR
