BEGIN:VCALENDAR
VERSION:2.0
PRODID:-//ChamberMaster//Event Calendar 2.0//EN
METHOD:PUBLISH
X-PUBLISHED-TTL:P3D
REFRESH-INTERVAL:P3D
CALSCALE:GREGORIAN
BEGIN:VEVENT
DTSTART:20080828T163000Z
DTEND:20080828T180000Z
X-MICROSOFT-CDO-ALLDAYEVENT:FALSE
SUMMARY:Joint WIB Luncheon with Scott Hoesman
DESCRIPTION:Ever faced difficulties when communicating with the opposite gender? Then you will certainly want to come hear diversity expert Scott Hoesman when he discusses "She Said...He Said... Avoiding Miscues and Miscommunication between Genders."\n\nBe sure to join us for this multi-chamber Women In Business extravaganza. We will be at Pheasant Run Resort (4051 East Main Street\, St. Charles) beginning at 11:30 a.m. (RSVP\, $25 for members and $35 for guests).
X-ALT-DESC;FMTTYPE=text/html:Ever faced difficulties when communicating with the opposite gender? Then you will certainly want to come hear diversity expert Scott Hoesman when he discusses "She Said...He Said... Avoiding Miscues and Miscommunication between Genders."\n\nBe sure to join us for this multi-chamber Women In Business extravaganza. We will be at Pheasant Run Resort (4051 East Main Street\, St. Charles) beginning at 11:30 a.m. (RSVP\, $25 for members and $35 for guests).
LOCATION:Pheasant Run
UID:e.1902.1326
SEQUENCE:3
DTSTAMP:20260422T114115Z
URL:http://business.bataviachamber.org/events/details/joint-wib-luncheon-with-scott-hoesman-08-28-2008-1326
END:VEVENT

END:VCALENDAR
