BEGIN:VCALENDAR
VERSION:2.0
PRODID:-//ChamberMaster//Event Calendar 2.0//EN
METHOD:PUBLISH
X-PUBLISHED-TTL:P3D
REFRESH-INTERVAL:P3D
CALSCALE:GREGORIAN
BEGIN:VEVENT
DTSTART:20100819T163000Z
DTEND:20100819T183000Z
X-MICROSOFT-CDO-ALLDAYEVENT:FALSE
SUMMARY:Joint Luncheon with Warrenville Chamber
DESCRIPTION:It’s always great to meet members from other Chambers\, so we are joining the Warrenville Chamber for networking and a fascinating lunch. Tom Kelly of Potential in Motion will tell us about “The Attraction Principle”…how to attract customers effortlessly. Location: Country Inn & Suites\, 1837 Center Point Circle\, Naperville.
X-ALT-DESC;FMTTYPE=text/html:<P align=left><FONT color=#000080 size=4><SPAN style="FONT-SIZE: 12pt\; FONT-FAMILY: 'Times New Roman'\; mso-fareast-font-family: 'Times New Roman'\; mso-ansi-language: EN-US\; mso-fareast-language: EN-US\; mso-bidi-language: AR-SA"><FONT size=4>It’s always great to meet members from other Chambers\, so we are joining the Warrenville Chamber for networking and a fascinating lunch. Tom Kelly of Potential in Motion will tell us about “The Attraction Principle”…how to attract customers effortlessly. Location: Country Inn &amp\; Suites\, </FONT><?xml:namespace prefix = st1 ns = "urn:schemas-microsoft-com:office:smarttags" /><st1:address w:st="on"><FONT size=4><st1:Street w:st="on">1837 Center Point Circle</st1:Street>\, </FONT><st1:City w:st="on"><FONT size=4>Naperville.</FONT></st1:City></st1:address></SPAN></FONT></P>
LOCATION:Monarch Landing
UID:e.1902.1539
SEQUENCE:3
DTSTAMP:20260420T165944Z
URL:http://business.bataviachamber.org/events/details/joint-luncheon-with-warrenville-chamber-08-19-2010-1539
END:VEVENT

END:VCALENDAR
