BEGIN:VCALENDAR
VERSION:2.0
PRODID:-//ChamberMaster//Event Calendar 2.0//EN
METHOD:PUBLISH
X-PUBLISHED-TTL:P3D
REFRESH-INTERVAL:P3D
CALSCALE:GREGORIAN
BEGIN:VEVENT
DTSTART:20080710T213000Z
DTEND:20080711T000000Z
X-MICROSOFT-CDO-ALLDAYEVENT:FALSE
SUMMARY:Joint Chamber Luau in West Chicago - CANCELLED
DESCRIPTION:Unfortunately\, due to lack of sponsorship\, this evant has been cancelled for 2008. Once again\, the West Chicago Chamber of Commerce and Industry is inviting all the local Chambers for an evening Luau. Dust off your favorite Aloha shirt or Muu Muu and be prepared to meet hundreds of new friends & business associates!
X-ALT-DESC;FMTTYPE=text/html:Unfortunately\, due to lack of sponsorship\, this evant has been cancelled for 2008. Once again\, the West Chicago Chamber of Commerce and Industry is inviting all the local Chambers for an evening Luau. Dust off your favorite Aloha shirt or Muu Muu and be prepared to meet hundreds of new friends & business associates!
LOCATION:CANCELLED
UID:e.1902.1491
SEQUENCE:3
DTSTAMP:20260422T131708Z
URL:http://business.bataviachamber.org/events/details/joint-chamber-luau-in-west-chicago-cancelled-07-10-2008-1491
END:VEVENT

END:VCALENDAR
