BEGIN:VCALENDAR
VERSION:2.0
PRODID:-//ChamberMaster//Event Calendar 2.0//EN
METHOD:PUBLISH
X-PUBLISHED-TTL:P3D
REFRESH-INTERVAL:P3D
CALSCALE:GREGORIAN
BEGIN:VEVENT
DTSTART:20111017T163000Z
DTEND:20111017T183000Z
X-MICROSOFT-CDO-ALLDAYEVENT:FALSE
SUMMARY:Joint Chamber Legislative Affairs Committee
DESCRIPTION:Join us as we continue our conversations about how the voice of business can play an increasing role in Batavia\, Springfield and Washington\, DC.
X-ALT-DESC;FMTTYPE=text/html:<DIV style="FONT-FAMILY: Arial" align=left><FONT color=#0000ff size=4>Join us as we continue our conversations about how the voice of business can play an increasing role in Batavia\, Springfield and Washington\, DC.</FONT></DIV>
LOCATION:Apple Villa Pancake House & Restaurant
UID:e.1902.1462
SEQUENCE:3
DTSTAMP:20260419T170110Z
URL:http://business.bataviachamber.org/events/details/joint-chamber-legislative-affairs-committee-10-17-2011-1462
END:VEVENT

END:VCALENDAR
