BEGIN:VCALENDAR
VERSION:2.0
PRODID:-//ChamberMaster//Event Calendar 2.0//EN
METHOD:PUBLISH
X-PUBLISHED-TTL:P3D
REFRESH-INTERVAL:P3D
CALSCALE:GREGORIAN
BEGIN:VEVENT
DTSTART:20250410T170000Z
DTEND:20250410T180000Z
X-MICROSOFT-CDO-ALLDAYEVENT:FALSE
SUMMARY:Join CASA Kane County for H.A.T.C.H. - Hands Around The Courthouse!
DESCRIPTION:In honor of Child Abuse Prevention Month\, CASA Kane County will host its annual Hands Around the Courthouse observance on Thursday\, April 10\, 2025. Thank you to all members of our community who will join together with us to bring awareness to child abuse and help protect the well-being of the next generation.\n\nFeaturing Guest Speakers\n\nHonorable Chief Judge Robert Villa\n\nState's Attorney Jamie Mosser\n\nRemarks by: \n\nJim Di Ciaula\, Executive Director CASA Kane County
X-ALT-DESC;FMTTYPE=text/html:<p><span style="background-color:transparent\; color:rgb(0\, 0\, 0)\; font-family:roboto\,sans-serif\; font-size:14pt">In honor of </span><strong>Child Abuse Prevention Month</strong><span style="background-color:transparent\; color:rgb(0\, 0\, 0)\; font-family:roboto\,sans-serif\; font-size:14pt">\, CASA Kane County will host its annual Hands Around the Courthouse observance on Thursday\, April 10\, 2025. Thank you to all members of our community who will join together with us to bring awareness to child abuse and help protect the well-being of the next generation.</span></p>\n\n<h2 style="text-align:center"><span style="background-color:transparent\; color:rgb(0\, 0\, 0)\; font-family:arial\,sans-serif\; font-size:14pt">Featuring Guest Speakers</span></h2>\n\n<p style="text-align:center"><strong>Honorable Chief Judge Robert Villa</strong></p>\n\n<p style="text-align:center"><strong>State&rsquo\;s Attorney Jamie Mosser</strong></p>\n\n<p style="text-align:center"><span style="background-color:transparent\; color:rgb(0\, 0\, 0)\; font-family:arial\,sans-serif\; font-size:14pt">Remarks by:&nbsp\;</span></p>\n\n<p style="text-align:center"><span style="background-color:transparent\; color:rgb(0\, 0\, 0)\; font-family:arial\,sans-serif\; font-size:14pt">Jim Di Ciaula\, Executive Director CASA Kane County</span></p>\n
LOCATION:Kane County Courthouse:100 S Third Street\, Geneva IL 60134
UID:e.1902.29407
SEQUENCE:3
DTSTAMP:20260422T113858Z
URL:http://business.bataviachamber.org/events/details/join-casa-kane-county-for-h-a-t-c-h-hands-around-the-courthouse-29407
END:VEVENT

END:VCALENDAR
