BEGIN:VCALENDAR
VERSION:2.0
PRODID:-//ChamberMaster//Event Calendar 2.0//EN
METHOD:PUBLISH
X-PUBLISHED-TTL:P3D
REFRESH-INTERVAL:P3D
CALSCALE:GREGORIAN
BEGIN:VEVENT
DTSTART:20250530T003000Z
DTEND:20250601T040000Z
X-MICROSOFT-CDO-ALLDAYEVENT:FALSE
SUMMARY:Jeff Dye Stand Up Comedy
DESCRIPTION:Catch Jeff Dye\, nationally touring comedian and TV star\, live at The Comedy Vault May 29-31! Known for Better Late Than Never\, The Tonight Show\, and his hit comedy albums\, Jeff delivers raw\, unfiltered laughs with his signature charm. VIP tickets include a post-show meet & greet don't miss it!
X-ALT-DESC;FMTTYPE=text/html:Catch Jeff Dye\, nationally touring comedian and TV star\, live at The Comedy Vault May 29-31! Known for <em>Better Late Than Never</em>\, <em>The Tonight Show</em>\, and his hit comedy albums\, Jeff delivers raw\, unfiltered laughs with his signature charm. VIP tickets include a post-show meet &amp\; greet&mdash\;don&rsquo\;t miss it!
LOCATION:The Comedy Vault
UID:e.1902.26583
SEQUENCE:3
DTSTAMP:20260422T101332Z
URL:http://business.bataviachamber.org/events/details/jeff-dye-stand-up-comedy-26583
END:VEVENT

END:VCALENDAR
