BEGIN:VCALENDAR
VERSION:2.0
PRODID:-//ChamberMaster//Event Calendar 2.0//EN
METHOD:PUBLISH
X-PUBLISHED-TTL:P3D
REFRESH-INTERVAL:P3D
CALSCALE:GREGORIAN
BEGIN:VEVENT
DTSTART:20111110T173000Z
DTEND:20111110T190000Z
X-MICROSOFT-CDO-ALLDAYEVENT:FALSE
SUMMARY:It’s Your Secret...Keys to Working Better & Stressing Less
DESCRIPTION:Join us for a free\, casual and informative "brown bag" lunch. Bring your lunch and your ideas to share ways to personalize your workday from morning commute through evening decompression. Identify ways to handle the inevitable workplace stressors.  Your facilitator\, Dawn Staszak\, is the author of Guru in the Office\, a chronicle of her tips for thriving in the workplace.
X-ALT-DESC;FMTTYPE=text/html:<DIV style="FONT-FAMILY: Arial" align=left><FONT color=#800000 size=4>Join us for a free\, casual and informative "brown bag" lunch. Bring your lunch and your ideas to&nbsp\;</FONT><FONT color=#800000 size=4>share ways to personalize your workday from morning commute through evening decompression. Identify ways to handle the inevitable workplace stressors. </FONT></DIV><DIV style="FONT-FAMILY: Arial" align=left><FONT color=#800000 size=4></FONT>&nbsp\;</DIV><DIV style="FONT-FAMILY: Arial" align=left><FONT color=#800000 size=4>Your facilitator\, <FONT color=#000080>Dawn Staszak\,</FONT> is the author of <EM><FONT color=#000080>Guru in the Office</FONT></EM>\, a chronicle of her tips for thriving in the workplace.</FONT></DIV>
LOCATION:Peg Bond Center
UID:e.1902.1546
SEQUENCE:3
DTSTAMP:20260419T152013Z
URL:http://business.bataviachamber.org/events/details/it-s-your-secret-keys-to-working-better-stressing-less-11-10-2011-1546
END:VEVENT

END:VCALENDAR
