BEGIN:VCALENDAR
VERSION:2.0
PRODID:-//ChamberMaster//Event Calendar 2.0//EN
METHOD:PUBLISH
X-PUBLISHED-TTL:P3D
REFRESH-INTERVAL:P3D
CALSCALE:GREGORIAN
BEGIN:VEVENT
DTSTART:20250228T013000Z
DTEND:20250301T170000Z
X-MICROSOFT-CDO-ALLDAYEVENT:FALSE
SUMMARY:Isabel Hagen Stand Up Comedy
DESCRIPTION:Don't miss Isabel Hagen live at The Comedy Vault\, Feb 27 March 1! The stand-up comedian and Juilliard-trained violist\, featured on The Tonight Show with Jimmy Fallon and Just for Laughs\, brings her unique blend of comedy and music to the stage for 3 nights and 5 shows. Grab your tickets now!
X-ALT-DESC;FMTTYPE=text/html:Don&rsquo\;t miss Isabel Hagen live at The Comedy Vault\, Feb 27&ndash\;March 1! The stand-up comedian and Juilliard-trained violist\, featured on <em>The Tonight Show with Jimmy Fallon</em> and Just for Laughs\, brings her unique blend of comedy and music to the stage for 3 nights and 5 shows. Grab your tickets now!
LOCATION:The Comedy Vault 18 E. Wilson Street Batavia\, IL 60510
UID:e.1902.26914
SEQUENCE:3
DTSTAMP:20260422T131528Z
URL:http://business.bataviachamber.org/events/details/isabel-hagen-stand-up-comedy-26914
END:VEVENT

END:VCALENDAR
