BEGIN:VCALENDAR
VERSION:2.0
PRODID:-//ChamberMaster//Event Calendar 2.0//EN
METHOD:PUBLISH
X-PUBLISHED-TTL:P3D
REFRESH-INTERVAL:P3D
CALSCALE:GREGORIAN
BEGIN:VEVENT
DTSTART:20100125T160000Z
DTEND:20100125T210000Z
X-MICROSOFT-CDO-ALLDAYEVENT:FALSE
SUMMARY:Illinois Chamber Annual Legislative Summit
DESCRIPTION:As the unifying voice for businesses in the state\, the chambers has spent the last year fighting a number of tax policies that would have been devastating to businesses.  Local Chambers play an integral role in educating their members on the policies and proposals in Springfield that could have tremendous ramifications on Illinois businesses.  Participating in the annual Legislative Summit in Springfield will help prepare you and your volunteer leaders for what lies ahead for businesses in Illinois.  The Illinois Chamber’s governmental affairs staff and IACCE’s Government Affairs Committee will provide an indepth session of current and future concerns chambers need to come together on.  \n\nRSVP: E-mail Mary Taylor at mtaylor@ilchamber.org or fax information to 217-522-5518 by January 22 close of day with your chamber name\, number of attendees\, name/company of attendees\, and each volunteer’s affiliation with your chamber (e.g.\, chair of government affairs committee\, chair elect\, etc) \nCost:  $20 before the day of the event\, $25 at the door - per person with lunch provided
X-ALT-DESC;FMTTYPE=text/html:<P align=left>As the unifying voice for businesses in the state\, the chambers has spent the last year fighting a number of tax policies that would have been devastating to businesses.&nbsp\; Local Chambers play an integral role in educating their members on the policies and proposals in Springfield that could have tremendous ramifications on Illinois businesses.&nbsp\; Participating in the annual Legislative Summit in Springfield will help prepare you and your volunteer leaders for what lies ahead for businesses in Illinois.&nbsp\; The Illinois Chamber’s governmental affairs staff and IACCE’s Government Affairs Committee will provide an indepth session of current and future concerns chambers need to come together on.&nbsp\; <BR><BR>RSVP: E-mail Mary Taylor at <A href="mailto:mtaylor@ilchamber.org">mtaylor@ilchamber.org</A> or fax information to 217-522-5518 by January 22 close of day with your chamber name\, number of attendees\, name/company of attendees\, and each volunteer’s affiliation with your chamber (e.g.\, chair of government affairs committee\, chair elect\, etc) </P><P align=left><BR>Cost:&nbsp\; $20 before the day of the event\, $25 at the door - per person with lunch provided <BR><BR></P>
LOCATION:President Abraham Lincoln Hotel
UID:e.1902.1489
SEQUENCE:3
DTSTAMP:20260421T064520Z
URL:http://business.bataviachamber.org/events/details/illinois-chamber-annual-legislative-summit-01-25-2010-1489
END:VEVENT

END:VCALENDAR
