BEGIN:VCALENDAR
VERSION:2.0
PRODID:-//ChamberMaster//Event Calendar 2.0//EN
METHOD:PUBLISH
X-PUBLISHED-TTL:P3D
REFRESH-INTERVAL:P3D
CALSCALE:GREGORIAN
BEGIN:VEVENT
DTSTART:20250309T230000Z
DTEND:20250310T020000Z
X-MICROSOFT-CDO-ALLDAYEVENT:FALSE
SUMMARY:Hooks and Laughter: A Batavia Fire L3436 Fundraiser
DESCRIPTION:Get ready for a night of laughs in support of our local heroes!\n\n\n\nJoin us on March 9th for a hilarious fundraiser benefiting Batavia Firefighters Local 3436. This stacked lineup features headliners Jack Baker & Katie Meiners\, with special guest appearances by AJ Leideg & Zoe Dodson. Plus\, enjoy live music from the talented Rocco Loffredi during door times. \n\n\n\nProceeds will benefit Batavia Firefighters Local 3436 and allow them to continue to support a variety of charities within the community.\n\n-Doors at 5 PM\, show at 6 PM.\n\n-Tickets: $30 GA | $45 VIP (preferred first 3 rows).\n\n\n\nSupport a great cause and grab your tickets now!
X-ALT-DESC;FMTTYPE=text/html:<p>Get ready for a night of laughs in support of our local heroes!<br />\n<br />\nJoin us on March 9th for a hilarious fundraiser benefiting Batavia Firefighters Local 3436. This stacked lineup features headliners Jack Baker &amp\; Katie Meiners\, with special guest appearances by AJ Leideg &amp\; Zoe Dodson. Plus\, enjoy live music from the talented Rocco Loffredi during door times.&nbsp\;<br />\n<br />\nProceeds will benefit Batavia Firefighters Local 3436 and allow them to continue to support a variety of charities within the community.</p>\n\n<p>-Doors at 5 PM\, show at 6 PM.<br />\n-Tickets: $30 GA | $45 VIP (preferred first 3 rows).<br />\n<br />\nSupport a great cause and grab your tickets now!</p>\n
LOCATION:The Comedy Vault 18 E Wilson Street Batavia\, IL 60510
UID:e.1902.29355
SEQUENCE:3
DTSTAMP:20260422T131335Z
URL:http://business.bataviachamber.org/events/details/hooks-and-laughter-a-batavia-fire-l3436-fundraiser-29355
END:VEVENT

END:VCALENDAR
