BEGIN:VCALENDAR
VERSION:2.0
PRODID:-//ChamberMaster//Event Calendar 2.0//EN
METHOD:PUBLISH
X-PUBLISHED-TTL:P3D
REFRESH-INTERVAL:P3D
CALSCALE:GREGORIAN
BEGIN:VEVENT
DTSTART:20250507T150000Z
DTEND:20250507T190000Z
X-MICROSOFT-CDO-ALLDAYEVENT:FALSE
SUMMARY:Hiring Event at Association for Individual Development
DESCRIPTION:Hiring Event \n\nAssociation for Individual Development\n\n  Location: 309 New Indian Trail Court. Aurora\, IL 60506\n\n  Date: May 07\, 2025\, 10:00am - 2:00pm\n\n  Looking for your next career opportunity? Don't miss out! \n\nWe are excited to meet talented individuals like YOU!\n\nLooking to start a new career\, or an internship\, or taking the next step in your journey\n\nwe offer the perfect opportunity to connect with our team. \n\nWhat's In It For You?\n\n  Full-time & Part-time Jobs\n\n  Internship Opportunities\n\n  Career growth & development\n\nSecure your spot and let us know you're coming:\n\nVisit our website to preregister at the link to the right in the "Apply Now" section.\n\nCome prepared with your resume and any questions regarding opportunities available.\n\nWe can't wait to meet you!\n\n#HiringEvent #JobOpportunities #CareerFair #JobSeeker #May #AID2025
X-ALT-DESC;FMTTYPE=text/html:<h1 class="ignore-global-css" style="box-sizing: border-box\; margin: 20px 0px 10px\; font-size: 36px\; line-height: 1.1\; color: rgb(68\, 68\, 68)\; font-family: Arial\, Helvetica\, sans-serif\; background-color: rgb(255\, 255\, 255)\; text-align: center\;"><span class="ignore-global-css" style="box-sizing: border-box\; font-size: 24px\;"><span class="ignore-global-css" style="box-sizing: border-box\; color: rgb(0\, 0\, 0)\;">&#127775\; Hiring Event&#127775\;</span></span></h1>\n\n<h1 class="ignore-global-css" style="box-sizing: border-box\; margin: 20px 0px 10px\; font-size: 36px\; line-height: 1.1\; color: rgb(68\, 68\, 68)\; font-family: Arial\, Helvetica\, sans-serif\; background-color: rgb(255\, 255\, 255)\; text-align: center\;"><span class="ignore-global-css" style="box-sizing: border-box\; font-size: 24px\;"><span class="ignore-global-css" style="box-sizing: border-box\; color: rgb(0\, 0\, 0)\;">Association for Individual Development</span></span></h1>\n\n<p class="ignore-global-css" style="box-sizing: border-box\; margin: 0px\; padding: 2px 5px\; color: rgb(68\, 68\, 68)\; font-family: Arial\, Helvetica\, sans-serif\; font-size: 12.8px\; background-color: rgb(255\, 255\, 255)\; text-align: center\;"><span class="ignore-global-css" style="box-sizing: border-box\; font-size: 24px\;">&#128205\;&nbsp\;<strong class="ignore-global-css" style="box-sizing: border-box\; font-weight: bold\;"><span class="ignore-global-css" style="box-sizing: border-box\;">Location:&nbsp\;</span></strong></span><span class="ignore-global-css" style="box-sizing: border-box\; font-size: 11pt\;"><span class="ignore-global-css" style="box-sizing: border-box\; font-family: Calibri\, sans-serif\;"><strong class="ignore-global-css" style="box-sizing: border-box\; font-weight: bold\;"><span class="ignore-global-css" style="box-sizing: border-box\; font-size: 18pt\;"><span class="ignore-global-css" style="box-sizing: border-box\; font-family: Arial\, sans-serif\;"><a class="ignore-global-css" href="https://maps.app.goo.gl/h7hoK7A7F1EZ7Df28" style="box-sizing: border-box\; background: transparent\; color: rgb(66\, 139\, 202)\; text-decoration-line: none\;">309 New Indian Trail Court. Aurora\, IL 60506</a></span></span></strong></span></span></p>\n\n<p class="ignore-global-css" style="box-sizing: border-box\; margin: 0px\; padding: 2px 5px\; color: rgb(68\, 68\, 68)\; font-family: Arial\, Helvetica\, sans-serif\; font-size: 12.8px\; background-color: rgb(255\, 255\, 255)\; text-align: center\;"><span class="ignore-global-css" style="box-sizing: border-box\; font-size: 24px\;">&#128467\;&#65039\;<span class="ignore-global-css" style="box-sizing: border-box\; color: rgb(0\, 0\, 0)\;"><span class="ignore-global-css" style="box-sizing: border-box\;"><strong class="ignore-global-css" style="box-sizing: border-box\; font-weight: bold\;">Date: May 07\, 2025\, 10:00am - 2:00pm</strong></span></span></span></p>\n\n<p class="ignore-global-css" style="box-sizing: border-box\; margin: 0px\; padding: 2px 5px\; color: rgb(68\, 68\, 68)\; font-family: Arial\, Helvetica\, sans-serif\; font-size: 12.8px\; background-color: rgb(255\, 255\, 255)\; text-align: center\;"><span class="ignore-global-css" style="box-sizing: border-box\; font-size: 24px\;"><strong class="ignore-global-css" style="box-sizing: border-box\; font-weight: bold\;">&#128188\;&nbsp\;</strong><span class="ignore-global-css" style="box-sizing: border-box\; color: rgb(0\, 0\, 0)\;"><strong class="ignore-global-css" style="box-sizing: border-box\; font-weight: bold\;"><span class="ignore-global-css" style="box-sizing: border-box\;">Looking for your next career opportunity? Don&rsquo\;t miss out!&nbsp\;</span></strong></span></span></p>\n\n<p class="ignore-global-css" style="box-sizing: border-box\; margin: 0px\; padding: 2px 5px\; color: rgb(68\, 68\, 68)\; font-family: Arial\, Helvetica\, sans-serif\; font-size: 12.8px\; background-color: rgb(255\, 255\, 255)\; text-align: center\;"><span class="ignore-global-css" style="box-sizing: border-box\; font-size: 24px\;"><span class="ignore-global-css" style="box-sizing: border-box\; color: rgb(0\, 0\, 0)\;"><strong class="ignore-global-css" style="box-sizing: border-box\; font-weight: bold\;">We are excited to meet talented individuals like YOU!</strong></span></span></p>\n\n<p class="ignore-global-css" style="box-sizing: border-box\; margin: 0px\; padding: 2px 5px\; color: rgb(68\, 68\, 68)\; font-family: Arial\, Helvetica\, sans-serif\; font-size: 12.8px\; background-color: rgb(255\, 255\, 255)\; text-align: center\;"><span class="ignore-global-css" style="box-sizing: border-box\; font-size: 24px\;"><span class="ignore-global-css" style="box-sizing: border-box\; color: rgb(0\, 0\, 0)\;"><strong class="ignore-global-css" style="box-sizing: border-box\; font-weight: bold\;">Looking to start a new career\, or an internship\, or taking the next step in your journey</strong></span></span></p>\n\n<p class="ignore-global-css" style="box-sizing: border-box\; margin: 0px\; padding: 2px 5px\; color: rgb(68\, 68\, 68)\; font-family: Arial\, Helvetica\, sans-serif\; font-size: 12.8px\; background-color: rgb(255\, 255\, 255)\; text-align: center\;"><span class="ignore-global-css" style="box-sizing: border-box\; font-size: 24px\;"><span class="ignore-global-css" style="box-sizing: border-box\; color: rgb(0\, 0\, 0)\;"><strong class="ignore-global-css" style="box-sizing: border-box\; font-weight: bold\;">we offer the perfect opportunity to connect with our team.&nbsp\;</strong></span></span></p>\n\n<p class="ignore-global-css" style="box-sizing: border-box\; margin: 0px\; padding: 2px 5px\; color: rgb(68\, 68\, 68)\; font-family: Arial\, Helvetica\, sans-serif\; font-size: 12.8px\; background-color: rgb(255\, 255\, 255)\; text-align: center\;"><span class="ignore-global-css" style="box-sizing: border-box\; font-size: 24px\;"><span class="ignore-global-css" style="box-sizing: border-box\; font-family: Calibri\, sans-serif\;"><strong class="ignore-global-css" style="box-sizing: border-box\; font-weight: bold\;">What&rsquo\;s In It For You?</strong></span></span></p>\n\n<p class="ignore-global-css" style="box-sizing: border-box\; margin: 0px\; padding: 2px 5px\; color: rgb(68\, 68\, 68)\; font-family: Arial\, Helvetica\, sans-serif\; font-size: 12.8px\; background-color: rgb(255\, 255\, 255)\; text-align: center\;"><span class="ignore-global-css" style="box-sizing: border-box\; font-size: 24px\;"><span class="ignore-global-css" style="box-sizing: border-box\; font-family: Calibri\, sans-serif\;">&#128165\;&nbsp\;<strong class="ignore-global-css" style="box-sizing: border-box\; font-weight: bold\;">Full-time &amp\; Part-time Jobs</strong></span></span></p>\n\n<p class="ignore-global-css" style="box-sizing: border-box\; margin: 0px\; padding: 2px 5px\; color: rgb(68\, 68\, 68)\; font-family: Arial\, Helvetica\, sans-serif\; font-size: 12.8px\; background-color: rgb(255\, 255\, 255)\; text-align: center\;"><span class="ignore-global-css" style="box-sizing: border-box\; font-size: 24px\;"><span class="ignore-global-css" style="box-sizing: border-box\; font-family: Calibri\, sans-serif\;">&#129309\;&nbsp\;<strong class="ignore-global-css" style="box-sizing: border-box\; font-weight: bold\;">Internship Opportunities</strong></span></span></p>\n\n<p class="ignore-global-css" style="box-sizing: border-box\; margin: 0px\; padding: 2px 5px\; color: rgb(68\, 68\, 68)\; font-family: Arial\, Helvetica\, sans-serif\; font-size: 12.8px\; background-color: rgb(255\, 255\, 255)\; text-align: center\;"><span class="ignore-global-css" style="box-sizing: border-box\; font-size: 24px\;"><span class="ignore-global-css" style="box-sizing: border-box\; font-family: Calibri\, sans-serif\;">&#128200\;&nbsp\;<strong class="ignore-global-css" style="box-sizing: border-box\; font-weight: bold\;">Career growth &amp\; development</strong></span></span></p>\n\n<p class="ignore-global-css" style="box-sizing: border-box\; margin: 0px\; padding: 2px 5px\; color: rgb(68\, 68\, 68)\; font-family: Arial\, Helvetica\, sans-serif\; font-size: 12.8px\; background-color: rgb(255\, 255\, 255)\; text-align: center\;"><span class="ignore-global-css" style="box-sizing: border-box\; font-size: 24px\;"><span class="ignore-global-css" style="box-sizing: border-box\; color: rgb(0\, 0\, 0)\;"><strong class="ignore-global-css" style="box-sizing: border-box\; font-weight: bold\;">Secure your spot and let us know you&#39\;re coming:</strong></span></span></p>\n\n<p class="ignore-global-css" style="box-sizing: border-box\; margin: 0px\; padding: 2px 5px\; color: rgb(68\, 68\, 68)\; font-family: Arial\, Helvetica\, sans-serif\; font-size: 12.8px\; background-color: rgb(255\, 255\, 255)\; text-align: center\;"><span class="ignore-global-css" style="box-sizing: border-box\; font-size: 24px\;"><span class="ignore-global-css" style="box-sizing: border-box\; color: rgb(0\, 0\, 0)\;"><strong class="ignore-global-css" style="box-sizing: border-box\; font-weight: bold\;">Visit our <a href="https://www.paycomonline.net/v4/ats/web.php/jobs/ViewJobDetails?job=162249&amp\;clientkey=54C3AFFBC2EAE6FFB4D91586E4BDBBB6" target="_blank">website</a> to preregister at the link to the right in the &quot\;Apply Now&quot\; section.</strong></span></span></p>\n\n<p class="ignore-global-css" style="box-sizing: border-box\; margin: 0px\; padding: 2px 5px\; color: rgb(68\, 68\, 68)\; font-family: Arial\, Helvetica\, sans-serif\; font-size: 12.8px\; background-color: rgb(255\, 255\, 255)\; text-align: center\;"><span class="ignore-global-css" style="box-sizing: border-box\; font-size: 24px\;"><span class="ignore-global-css" style="box-sizing: border-box\; color: rgb(0\, 0\, 0)\;"><strong class="ignore-global-css" style="box-sizing: border-box\; font-weight: bold\;">Come prepared with your resume and any questions regarding opportunities available.</strong></span></span></p>\n\n<p class="ignore-global-css" style="box-sizing: border-box\; margin: 0px\; padding: 2px 5px\; color: rgb(68\, 68\, 68)\; font-family: Arial\, Helvetica\, sans-serif\; font-size: 12.8px\; background-color: rgb(255\, 255\, 255)\; text-align: center\;"><span class="ignore-global-css" style="box-sizing: border-box\; font-size: 24px\;"><span class="ignore-global-css" style="box-sizing: border-box\; color: rgb(0\, 0\, 0)\;"><strong class="ignore-global-css" style="box-sizing: border-box\; font-weight: bold\;">We can&#39\;t wait to meet you!</strong></span></span></p>\n\n<p class="ignore-global-css" style="box-sizing: border-box\; margin: 0px\; padding: 2px 5px\; color: rgb(68\, 68\, 68)\; font-family: Arial\, Helvetica\, sans-serif\; font-size: 12.8px\; background-color: rgb(255\, 255\, 255)\; text-align: center\;"><span class="ignore-global-css" style="box-sizing: border-box\; font-size: 28px\;"><span class="ignore-global-css" style="box-sizing: border-box\; color: rgb(46\, 204\, 113)\;">#HiringEvent #JobOpportunities #CareerFair #JobSeeker #May #AID2025</span></span></p>\n
LOCATION:Association for Individual Development 309 New Indian Trail Court Aurora\, IL 60506
UID:e.1902.29483
SEQUENCE:3
DTSTAMP:20260422T101531Z
URL:http://business.bataviachamber.org/events/details/hiring-event-at-association-for-individual-development-29483
END:VEVENT

END:VCALENDAR
