BEGIN:VCALENDAR
VERSION:2.0
PRODID:-//ChamberMaster//Event Calendar 2.0//EN
METHOD:PUBLISH
X-PUBLISHED-TTL:P3D
REFRESH-INTERVAL:P3D
CALSCALE:GREGORIAN
BEGIN:VEVENT
DTSTART:20091112T173000Z
DTEND:20091112T190000Z
X-MICROSOFT-CDO-ALLDAYEVENT:FALSE
SUMMARY:''Health Care: Global Issue\, Local Perspective''
DESCRIPTION:The Batavia Chamber is honored to welcome James D. Witt\, President & CEO of the Provena Mercy Medical Center to talk about “Health Care:  Global Issue\, Local Perspective.”Health care is a more pressing public policy issues than it has been at any time since the passage of the Medicare legislation in 1965. Technology is expanding exponentially\, new pharmaceuticals are continually available to treat both acute and chronic health conditions\, but cost pressures and access gaps continue to grow.  Health care policy is a national issue\, but health care is delivered locally.  Provena Mercy has had a key role in the health care in the Fox Valley since 1911.\nNOTE: Please park in the front of the hospital (white building) and enter through the main entrance which has the large overhang.  Take the elevator to the lower level.  The luncheon\nwill take place in the McAuley/Buckley conference rooms.
X-ALT-DESC;FMTTYPE=text/html:<P align=left><FONT size=4><FONT face=Arial><FONT color=#0000ff><STRONG>The Batavia Chamber is honored to welcome <FONT color=#800000>James D. Witt\, President &amp\; CEO of the Provena Mercy Medical Center</FONT> to talk&nbsp\;about “Health Care:&nbsp\; Global Issue\, Local Perspective.”</STRONG></FONT></FONT></FONT></P><P align=left><FONT face=Arial><FONT color=#0000ff size=4><STRONG>Health care is a more pressing public policy issues than it has been at any time since the passage of the Medicare legislation in 1965. Technology is expanding exponentially\, new pharmaceuticals are continually available to treat both acute and chronic health conditions\, but cost pressures and access gaps continue to grow.&nbsp\; Health care policy is a national issue\, but health care is delivered locally.&nbsp\; Provena Mercy has had a key role in the health care in the Fox Valley since 1911.<BR></STRONG></FONT></FONT><FONT size=+0><FONT face=Arial><FONT color=#0000ff><STRONG></STRONG></FONT></FONT></FONT></P><P align=left><FONT size=+0><FONT face=Arial><FONT color=#0000ff><STRONG>NOTE: Please park in the front of the hospital (white building) and enter through the main entrance which has the large overhang.&nbsp\; Take the elevator to the lower level.&nbsp\; The luncheon<BR>will take place in the McAuley/Buckley conference rooms.</STRONG></FONT></FONT></FONT></P>
LOCATION:Provena Mercy Medical Center
UID:e.1902.1534
SEQUENCE:3
DTSTAMP:20260421T093442Z
URL:http://business.bataviachamber.org/events/details/health-care-global-issue-local-perspective-11-12-2009-1534
END:VEVENT

END:VCALENDAR
