BEGIN:VCALENDAR
VERSION:2.0
PRODID:-//ChamberMaster//Event Calendar 2.0//EN
METHOD:PUBLISH
X-PUBLISHED-TTL:P3D
REFRESH-INTERVAL:P3D
CALSCALE:GREGORIAN
BEGIN:VEVENT
DTSTART:20170906T190000Z
DTEND:20170906T193000Z
X-MICROSOFT-CDO-ALLDAYEVENT:FALSE
SUMMARY:Ground Breaking Ceremony: My Place Hotel
DESCRIPTION:Please join the Batavia Chamber of Commerce as we celebrate the Ground Breaking Ceremony for the My Place Hotel\, North Aurora!
X-ALT-DESC;FMTTYPE=text/html:<span style="line-height: 20.8px\;">Please join the Batavia Chamber of Commerce as we celebrate the</span><span style="line-height: 20.8px\;">&nbsp\;Ground Breaking&nbsp\;Ceremony for the My Place Hotel\, North Aurora!&nbsp\;</span><br />\n&nbsp\;
LOCATION:1000 Kilbery Lane\, North Aurora\, IL 60542
UID:e.1902.6913
SEQUENCE:3
DTSTAMP:20260422T100015Z
URL:http://business.bataviachamber.org/events/details/ground-breaking-ceremony-my-place-hotel-6913
END:VEVENT

END:VCALENDAR
