BEGIN:VCALENDAR
VERSION:2.0
PRODID:-//ChamberMaster//Event Calendar 2.0//EN
METHOD:PUBLISH
X-PUBLISHED-TTL:P3D
REFRESH-INTERVAL:P3D
CALSCALE:GREGORIAN
BEGIN:VEVENT
DTSTART:20120110T000000Z
DTEND:20120110T010000Z
X-MICROSOFT-CDO-ALLDAYEVENT:FALSE
SUMMARY:Golf Outing Committee
DESCRIPTION:Help us create an entirely new Golfing Event in 2012. Join us for our initial meeting on January 9 to get the ball rolling (no pun intended!) We'll be at the Chamber offices.
X-ALT-DESC;FMTTYPE=text/html:<DIV>Help us create an entirely new Golfing Event in 2012. Join us for our initial meeting on January 9 to get the ball rolling (no pun intended!) We'll be at the Chamber offices.</DIV>
LOCATION:Batavia Chamber of Commerce
UID:e.1902.1417
SEQUENCE:3
DTSTAMP:20260419T121042Z
URL:http://business.bataviachamber.org/events/details/golf-outing-committee-01-09-2012-1417
END:VEVENT

END:VCALENDAR
