BEGIN:VCALENDAR
VERSION:2.0
PRODID:-//ChamberMaster//Event Calendar 2.0//EN
METHOD:PUBLISH
X-PUBLISHED-TTL:P3D
REFRESH-INTERVAL:P3D
CALSCALE:GREGORIAN
BEGIN:VEVENT
DTSTART:20100114T173000Z
DTEND:20100114T190000Z
X-MICROSOFT-CDO-ALLDAYEVENT:FALSE
SUMMARY:Get Found...or be LOST!
DESCRIPTION:Your business will be in a "world of hurt" if you do not understand the "world of search". Do you know how search engines search? Do you know how to get on the first page of a Google search? Do you understand how social media and your use of it is changing the game? As our use of the web evolves--including the dramatic rise in social media--the search engines use new algorithms to find you...or NOT! In this fascinating and VERY current topic\, Rob Hollis of InTouch365 will tell you how search engines work and the top 5 things you should do TODAY to improve your online visibility!
X-ALT-DESC;FMTTYPE=text/html:<FONT size=4><FONT face=Arial><FONT face="Times New Roman" color=#000000 size=3><P class=MsoNormal style="MARGIN: 0in 0in 0pt" align=left><FONT color=#0000ff size=4>Your business&nbsp\;will be in a "world of hurt" if you do not understand the "world of search". Do you know how search engines search? Do you know how to get on the first page of a Google search? Do you understand how social media and your use of it is changing the game?</FONT></P><P class=MsoNormal style="MARGIN: 0in 0in 0pt" align=left><FONT color=#0000ff size=4></FONT>&nbsp\;</P><P class=MsoNormal style="MARGIN: 0in 0in 0pt" align=left><FONT color=#0000ff size=4>As our use of the web evolves--including the dramatic rise in social media--the search engines use new algorithms to find you...or NOT!</FONT></P><P class=MsoNormal style="MARGIN: 0in 0in 0pt" align=left><FONT color=#0000ff size=4></FONT>&nbsp\;</P><P class=MsoNormal style="MARGIN: 0in 0in 0pt" align=left><FONT color=#0000ff size=4>In this fascinating and VERY current topic\, Rob Hollis of InTouch365 will tell you how search engines work and the top 5 things you should do TODAY to improve your online visibility!</FONT></P></FONT></FONT></FONT>
LOCATION:Tribella Bar & Grill
UID:e.1902.1535
SEQUENCE:3
DTSTAMP:20260421T060122Z
URL:http://business.bataviachamber.org/events/details/get-found-or-be-lost-01-14-2010-1535
END:VEVENT

END:VCALENDAR
