BEGIN:VCALENDAR
VERSION:2.0
PRODID:-//ChamberMaster//Event Calendar 2.0//EN
METHOD:PUBLISH
X-PUBLISHED-TTL:P3D
REFRESH-INTERVAL:P3D
CALSCALE:GREGORIAN
BEGIN:VEVENT
DTSTART:20250428T000000Z
DTEND:20250428T020000Z
X-MICROSOFT-CDO-ALLDAYEVENT:FALSE
SUMMARY:GenXish featuring Joey Villagomez
DESCRIPTION:GenX Comedians for Everyone.\n\n\n\nGet ready for a night of laughter\, sharp wit\, and relatable humor with "GenXish\," a monthly comedy showcase that brings the best of Gen X comedy to the stage! Brought to you by by the hilariously dynamic duo Paul Farahvar and Kristen Toomey\, this show delivers fresh talent and new laughs every month.  \n\n\n\nApril 27th GenXish lineup:\n\nHeadliner: Joey Villagomez.  Joey Villagomez has been performing stand up comedy for over 15 years and is a staple on the Chicago comedy scene. He was part of the TBS Just For Laughs Festival and appeared on Paul Rodriguez's New Latin Kings of Comedy Tour. He has performed at clubs including Gotham New York\, The Hollywood Improv and The World Famous Comedy Store. In 2019\, Joey was picked by Bill Burr to be featured on his Comedy Central series\, Bill Burr Presents: The Ringers. Joey currently tours\, headlining comedy clubs across the country.\n\n\n\nFeature: Joe Fernandez. Joe Fernandez is a half-Cuban half-Irish (or Cubish) comedian and actor. Described as dark\, cerebral\, sardonic\, and flat out bizarre\, Joe combines low brow\, off- color humor with high brow references to satirize serious subjects. His smile and playful personality belie the seedy underbelly that is his morbid sense of humor\, getting audiences to laugh before being mad at themselves for laughing but then continuing to laugh cause what Joe's saying is very very funny.\n\n\n\nJoe has been featured on NBC\, TBS Just For Laughs\, Boston Comedy Fest\, Chicago Sketch Fest\, Memphis Comedy Fest and was a finalist for the Andy Kaufman Award.\n\n\n\nHis debut comedy album "Ugly" premiered number one on iTunes and is available for streaming on all major platforms. His special of the same name is for free viewing on Tubi. His second comedy special "Demented | Live at the Chicago Laugh Factory" is available on Youtube. Has he also beaten Hannibal Burress in NBA Jam and improvised yelling at "Lake Placid" star Oliver Platt during an episode of Chicago Med? Yes he has. And they're the credits he's most proud of.\n\n\n\nHost: Kristen Toomey.  Kristen Toomey brings her unapologetic truth and high-energy style to the stage. With viral reels boasting over 20 million views and credits from Just For Laughs and Netflix Is A Joke Festival\, Kristen is one of the most dynamic comedians in the game today.
X-ALT-DESC;FMTTYPE=text/html:GenX Comedians for Everyone.<br />\n<br />\nGet ready for a night of laughter\, sharp wit\, and relatable humor with &quot\;GenXish\,&quot\; a monthly comedy showcase that brings the best of Gen X comedy to the stage! Brought to you by by the hilariously dynamic duo Paul Farahvar and Kristen Toomey\, this show delivers fresh talent and new laughs every month.&nbsp\;&nbsp\;<br />\n<br />\nApril 27th GenXish lineup:<br />\nHeadliner: Joey Villagomez.&nbsp\; Joey Villagomez has been performing stand up comedy for over 15 years and is a staple on the Chicago comedy scene. He was part of the TBS Just For Laughs Festival and appeared on Paul Rodriguez&rsquo\;s New Latin Kings of Comedy Tour. He has performed at clubs including Gotham New York\, The Hollywood Improv and The World Famous Comedy Store. In 2019\, Joey was picked by Bill Burr to be featured on his Comedy Central series\, Bill Burr Presents: The Ringers. Joey currently tours\, headlining comedy clubs across the country.<br />\n<br />\nFeature: Joe Fernandez. Joe Fernandez is a half-Cuban half-Irish (or Cubish) comedian and actor. Described as dark\, cerebral\, sardonic\, and flat out bizarre\, Joe combines low brow\, off- color humor with high brow references to satirize serious subjects. His smile and playful personality belie the seedy underbelly that is his morbid sense of humor\, getting audiences to laugh before being mad at themselves for laughing but then continuing to laugh cause what Joe&rsquo\;s saying is very very funny.<br />\n<br />\nJoe has been featured on NBC\, TBS Just For Laughs\, Boston Comedy Fest\, Chicago Sketch Fest\, Memphis Comedy Fest and was a finalist for the Andy Kaufman Award.<br />\n<br />\nHis debut comedy album &ldquo\;Ugly&rdquo\; premiered number one on iTunes and is available for streaming on all major platforms. His special of the same name is for free viewing on Tubi. His second comedy special &ldquo\;Demented | Live at the Chicago Laugh Factory&quot\; is available on Youtube. Has he also beaten Hannibal Burress in NBA Jam and improvised yelling at &ldquo\;Lake Placid&rdquo\; star Oliver Platt during an episode of Chicago Med? Yes he has. And they&rsquo\;re the credits he&rsquo\;s most proud of.<br />\n<br />\nHost: Kristen Toomey.&nbsp\; Kristen Toomey brings her unapologetic truth and high-energy style to the stage. With viral reels boasting over 20 million views and credits from Just For Laughs and Netflix Is A Joke Festival\, Kristen is one of the most dynamic comedians in the game today.
LOCATION:The Comedy Vault
UID:e.1902.29429
SEQUENCE:3
DTSTAMP:20260422T113914Z
URL:http://business.bataviachamber.org/events/details/genxish-featuring-joey-villagomez-29429
END:VEVENT

END:VCALENDAR
