BEGIN:VCALENDAR
VERSION:2.0
PRODID:-//ChamberMaster//Event Calendar 2.0//EN
METHOD:PUBLISH
X-PUBLISHED-TTL:P3D
REFRESH-INTERVAL:P3D
CALSCALE:GREGORIAN
BEGIN:VEVENT
DTSTART:20100225T140000Z
DTEND:20100225T153000Z
X-MICROSOFT-CDO-ALLDAYEVENT:FALSE
SUMMARY:GenerationSpeak with Kizer & Bender - Session 1
DESCRIPTION:The Batavia Chamber of Commerce PROUDLY announces a seminar by the nationally renowned team of... Kizer & Bender "In the four years I have been planning/implementing workshops for our attendees\, no one has had better attendance nor the rave reviews that Kizer and Bender have had.  They are always the 'hit' of the conference and everyone begs to have them come back!"  Christine Pauley\, Meetings & Events Manager\, NSSEA/Exposition Management\, Inc. “This session was amazing – thank you!”  G. Cole\, Brain Train “You two are the best!  Heard you last year & couldn't wait to see you this year.  You always energize me.”  C. Reed\, The Thinking Cap “This is the first time in 16 years that I have attended an 8:00 AM  workshop – these guys were so practical\, knowledgeable\, with back up to everything they said.”  P. Geary\, The Scholar Ship GenerationSpeak!  Managing the Collision of the Generations: A Guide to Understanding the Different Generations that Shop -- and Work -- in Your Business So much is changing in the business world\, and the biggest change involves your workforce and customers!  Do you speak the same language that your customers and employees speak? All of your customers? Do you understand generational nuances - the things that make each generation who they are? At work\, do associates from different generations work well together? Would you like to make your team even stronger?  It all comes down to understanding people - people from different generations\, with different values and thoughts\, different motivations and sensitivities. Your customers and your workforce have never been as generationally diverse as they are today. During a typical day in your store\, you will work with LOMLOTs™\, Baby Boomers\, Generation Xers\, and now\, Millennials. How you interact with each one depends upon their age because that greatly affects who they are - their likes and dislikes\, values\, beliefs\, and lifestyle all relate directly to the generation they belong to.  You'll meet each generation and you'll learn how they differ from one another and why that's important to your future success.Age is Just a State of Mind: Targeting the LOMLOTs™The 76 Million Pound Gorilla: Targeting the Baby Boomers Understanding the X Factor: Targeting Generation X From Poke'mon to Point & Click: Targeting the Millennials
X-ALT-DESC;FMTTYPE=text/html:<DIV style="FONT-FAMILY: Arial" align=center><FONT color=#0000ff size=2><STRONG>The Batavia Chamber of Commerce PROUDLY announces a seminar by the nationally renowned team of...</STRONG></FONT></DIV><DIV style="FONT-FAMILY: Arial" align=center><FONT color=#0000ff></FONT>&nbsp\;</DIV><DIV style="FONT-FAMILY: Arial" align=center><FONT color=#800040 size=6><EM><U>Kizer &amp\; Bender</U></EM></FONT></DIV><DIV style="FONT-FAMILY: Arial" align=left><FONT color=#0000ff size=4></FONT>&nbsp\;</DIV><DIV style="FONT-FAMILY: Arial" align=left><FONT color=#0000ff size=2><FONT color=#800040><DIV style="FONT-FAMILY: Arial" align=left><FONT color=#0000ff size=2><STRONG><FONT color=#0000ff>"In the four years I have been planning/implementing workshops for our attendees\, no one has had better attendance nor the rave reviews that Kizer and Bender have had.&nbsp\; They are always the 'hit' of the conference and everyone begs to have them come back!"</FONT>&nbsp\;&nbsp\;</STRONG></FONT><FONT color=#800040 size=2>Christine Pauley\, Meetings &amp\; Events Manager\, NSSEA/Exposition Management\, Inc.</FONT></DIV><DIV style="FONT-FAMILY: Arial" align=left><FONT color=#0000ff size=2></FONT>&nbsp\;</DIV><DIV style="FONT-FAMILY: Arial" align=left><FONT size=2><FONT color=#0000ff><STRONG>“This session was amazing – thank you!”</STRONG>&nbsp\; </FONT><FONT color=#800040>G. Cole\, Brain Train</FONT></FONT></DIV><DIV style="FONT-FAMILY: Arial" align=left><FONT color=#0000ff size=2></FONT>&nbsp\;</DIV><DIV style="FONT-FAMILY: Arial" align=left><FONT size=2><FONT color=#0000ff><STRONG>“You two are the best!&nbsp\; Heard you last year &amp\; couldn't wait to see you this year.&nbsp\; You always energize me.”</STRONG>&nbsp\; </FONT><FONT color=#800040>C. Reed\, The Thinking Cap</FONT></FONT></DIV><DIV style="FONT-FAMILY: Arial" align=left><FONT color=#800040 size=2></FONT>&nbsp\;</DIV><DIV style="FONT-FAMILY: Arial" align=left><FONT size=2><FONT color=#0000ff><STRONG>“This is the first time in 16 years that I have attended an 8:00 AM&nbsp\; workshop – these guys were so practical\, knowledgeable\, with back up to everything they said.”</STRONG>&nbsp\; </FONT><FONT color=#800040>P. Geary\, The Scholar Ship</FONT></FONT></DIV><DIV style="FONT-FAMILY: Arial" align=left>&nbsp\;</DIV></FONT></FONT><FONT color=#0000ff size=4></FONT></DIV><DIV style="FONT-FAMILY: Arial" align=center><FONT color=#800040 size=6><EM>GenerationSpeak! </EM></FONT></DIV><DIV style="FONT-FAMILY: Arial" align=center><FONT color=#0000ff><STRONG></STRONG></FONT>&nbsp\;</DIV><DIV style="FONT-FAMILY: Arial" align=center><FONT color=#0000ff><STRONG>Managing the Collision of the Generations: A Guide to Understanding the Different Generations that Shop -- and Work -- in Your Business</STRONG></FONT></DIV><DIV style="FONT-FAMILY: Arial" align=center><STRONG><FONT color=#0000ff></FONT></STRONG>&nbsp\;</DIV><DIV style="FONT-FAMILY: Arial" align=left><FONT color=#0000ff>So much is changing in the business world\, and the biggest change involves your workforce and customers! </FONT></DIV><DIV style="FONT-FAMILY: Arial" align=left><FONT color=#0000ff></FONT>&nbsp\;</DIV><DIV style="FONT-FAMILY: Arial" align=left><FONT color=#0000ff>Do you speak the same language that your customers and employees speak? All of your customers? Do you understand generational nuances - the things that make each generation who they are? At work\, do associates from different generations work well together? Would you like to make your team even stronger? </FONT></DIV><DIV style="FONT-FAMILY: Arial" align=left><FONT color=#0000ff></FONT>&nbsp\;</DIV><DIV style="FONT-FAMILY: Arial" align=left><FONT color=#0000ff>It all comes down to understanding people - people from different generations\, with different values and thoughts\, different motivations and sensitivities. Your customers and your workforce have never been as generationally diverse as they are today. During a typical day in your store\, you will work with LOMLOTs™\, Baby Boomers\, Generation Xers\, and now\, Millennials. How you interact with each one depends upon their age because that greatly affects who they are - their likes and dislikes\, values\, beliefs\, and lifestyle all relate directly to the generation they belong to. </FONT></DIV><DIV style="FONT-FAMILY: Arial" align=left><FONT color=#0000ff></FONT>&nbsp\;</DIV><DIV style="FONT-FAMILY: Arial" align=left><FONT color=#0000ff>You'll meet each generation and you'll learn how they differ from one another and why that's important to your future success.</FONT></DIV><UL><LI><DIV style="FONT-FAMILY: Arial" align=left><FONT color=#0000ff>Age is Just a State of Mind: Targeting the LOMLOTs™</FONT></DIV><LI><DIV style="FONT-FAMILY: Arial" align=left><FONT color=#0000ff>The 76 Million Pound Gorilla: Targeting the Baby Boomers </FONT></DIV><LI><DIV style="FONT-FAMILY: Arial" align=left><FONT color=#0000ff>Understanding the X Factor: Targeting Generation X </FONT></DIV><LI><DIV style="FONT-FAMILY: Arial" align=left><FONT color=#0000ff>From Poke'mon to Point &amp\; Click: Targeting the Millennials</FONT></DIV></LI></UL>
LOCATION:East Side Community Center
UID:e.1902.1825
SEQUENCE:3
DTSTAMP:20260421T035409Z
URL:http://business.bataviachamber.org/events/details/generationspeak-with-kizer-bender-session-1-02-25-2010-1825
END:VEVENT

END:VCALENDAR
