BEGIN:VCALENDAR
VERSION:2.0
PRODID:-//ChamberMaster//Event Calendar 2.0//EN
METHOD:PUBLISH
X-PUBLISHED-TTL:P3D
REFRESH-INTERVAL:P3D
CALSCALE:GREGORIAN
BEGIN:VEVENT
DTSTART:20250224T010000Z
DTEND:20250224T023000Z
X-MICROSOFT-CDO-ALLDAYEVENT:FALSE
SUMMARY:Gen Xish- Gen X Comedians for Everyone
DESCRIPTION:GenX Comedians for Everyone.\n\nGet ready for a night of laughter\, sharp wit\, and relatable humor with "GenXish\," a monthly comedy showcase that brings the best of Gen X comedy to the stage! Hosted by the hilariously dynamic duo Paul Farahvar and Kristen Toomey\, this show delivers fresh talent and new laughs every month.\n\nPaul Farahvar charms audiences with his quick-witted\, dry humor and unique takes on life as an aging bachelor and former trial litigator. A fixture in the Chicago comedy scene\, Paul has shared stages with comedy heavyweights like Jen Kirkman and Demetri Martin and has earned accolades for his stand-up specials\, including "Always a Groomsman" on Dry Bar Comedy.\n\nKristen Toomey brings her unapologetic truth and high-energy style to the stage. With viral reels boasting over 20 million views and credits from Just For Laughs and Netflix Is A Joke Festival\, Kristen is one of the most dynamic comedians in the game today.\n\nEach month\, Paul and Kristen will introduce a fresh lineup of top-tier comedians to keep you laughing. Plus\, enjoy throwback specials like Mad Dog 2020 and more to complete your Gen X experience.\n\nJoin us on Sunday\, February 23rd\, and every last Sunday of the month after that\, for a showcase that proves laughter knows no generational bounds. Lineups announced closer to showtime don't miss out!\n\n \n\nFebruary 23rd's show will feature comedian Abi Sanchez.\n\nAbi Sanchez is a Chicago-based standup comedian known for his razor-sharp wit and captivating stage presence. Born and raised in the Windy City\, Abi has become a prominent figure in the local comedy scene and touring across the country with his quick-thinking humor and relatable storytelling.
X-ALT-DESC;FMTTYPE=text/html:<h2>GenX Comedians for Everyone.</h2>\n\n<p>Get ready for a night of laughter\, sharp wit\, and relatable humor with&nbsp\;<strong>&quot\;GenXish\,&quot\;</strong>&nbsp\;a monthly comedy showcase that brings the best of Gen X comedy to the stage! Hosted by the hilariously dynamic duo&nbsp\;<strong>Paul Farahvar</strong>&nbsp\;and&nbsp\;<strong>Kristen Toomey\,</strong>&nbsp\;this show delivers fresh talent and new laughs every month.</p>\n\n<p><strong>Paul Farahvar</strong>&nbsp\;charms audiences with his quick-witted\, dry humor and unique takes on life as an aging bachelor and former trial litigator. A fixture in the Chicago comedy scene\, Paul has shared stages with comedy heavyweights like Jen Kirkman and Demetri Martin and has earned accolades for his stand-up specials\, including&nbsp\;<em>&quot\;Always a Groomsman&quot\;</em>&nbsp\;on Dry Bar Comedy.</p>\n\n<p><strong>Kristen Toomey</strong>&nbsp\;brings her unapologetic truth and high-energy style to the stage. With viral reels boasting over 20 million views and credits from&nbsp\;<em>Just For Laughs</em>&nbsp\;and&nbsp\;<em>Netflix Is A Joke Festival\,</em>&nbsp\;Kristen is one of the most dynamic comedians in the game today.</p>\n\n<p>Each month\, Paul and Kristen will introduce a fresh lineup of top-tier comedians to keep you laughing. Plus\, enjoy throwback specials like&nbsp\;<strong>Mad Dog 2020</strong>&nbsp\;and more to complete your Gen X experience.</p>\n\n<p>Join us on&nbsp\;<strong>Sunday\, February 23rd\,</strong>&nbsp\;and every last Sunday of the month after that\, for a showcase that proves laughter knows no generational bounds. Lineups announced closer to showtime&mdash\;don&rsquo\;t miss out!</p>\n\n<p>&nbsp\;</p>\n\n<p>February 23rd&#39\;s show will feature comedian&nbsp\;<strong>Abi Sanchez.</strong></p>\n\n<p>Abi Sanchez is a Chicago-based standup comedian known for his razor-sharp wit and captivating stage presence. Born and raised in the Windy City\, Abi has become a prominent figure in the local comedy scene and touring across the country with his quick-thinking humor and relatable storytelling.</p>\n
LOCATION:The Comedy Vault
UID:e.1902.26888
SEQUENCE:3
DTSTAMP:20260422T150632Z
URL:http://business.bataviachamber.org/events/details/gen-xish-gen-x-comedians-for-everyone-26888
END:VEVENT

END:VCALENDAR
