BEGIN:VCALENDAR
VERSION:2.0
PRODID:-//ChamberMaster//Event Calendar 2.0//EN
METHOD:PUBLISH
X-PUBLISHED-TTL:P3D
REFRESH-INTERVAL:P3D
CALSCALE:GREGORIAN
BEGIN:VEVENT
DTSTART:20250213T190000Z
DTEND:20250214T000000Z
X-MICROSOFT-CDO-ALLDAYEVENT:FALSE
SUMMARY:K. Hollis Jewelers Galentine's Beading Party
DESCRIPTION:Celebrate your Galentine's at K. Hollis Jewelers! Mark your calendar for Thursday\, February 13th\, from 1 PM to 6 PM\, and treat yourself and your besties to a fabulous beading party you won't want to miss!\n\n\n\nCreate Your Own Beaded Bracelet   With the guidance of our beading experts\, design and create a unique bracelet.\n\nGalentine's Drink Special   Sip on a fun drink crafted just for our Galentine's Celebration!\n\nRaffle   Enter to win a one-of-a-kind beaded bracelet and earrings.\n\nDetails:\n\n\n	\n	Time Slots: 45-minute sessions starting at 1:15 PM until 5:15 PM\n	\n	\n	Cost: $40 per bracelet.\n\n	\n		\n		We recommend that you book a time slot for each bracelet you plan to make. Most people use the full 45 minutes to design and create their bracelet.\n		\n	\n	\n\n\nSpaces are limited\, so grab your girls and reserve your spot today! Let's make this Galentine's Day unforgettable because you deserve it. \n\nWe can't wait to see you there!
X-ALT-DESC;FMTTYPE=text/html:<p style="text-align:initial"><span style="background-color:var(--ricos-custom-p-background-color\,unset)">Celebrate your Galentine&rsquo\;s at K. Hollis Jewelers! Mark your calendar for </span><strong>Thursday\, February 13th\, from 1 PM to 6 PM</strong><span style="background-color:var(--ricos-custom-p-background-color\,unset)">\, and treat yourself and your besties to a fabulous beading party you won&rsquo\;t want to miss!</span><br />\n<br />\n<strong>Create Your Own Beaded Bracelet</strong><span style="background-color:var(--ricos-custom-p-background-color\,unset)">&nbsp\;&ndash\; With the guidance of our beading experts\, design and create a unique bracelet</span><em>.</em></p>\n\n<p style="text-align:initial"><strong>Galentine&rsquo\;s Drink Special</strong><span style="background-color:var(--ricos-custom-p-background-color\,unset)">&nbsp\;&ndash\; Sip on a fun drink crafted just for our Galentine&#39\;s Celebration!</span></p>\n\n<p style="text-align:initial"><strong>Raffle</strong><span style="background-color:var(--ricos-custom-p-background-color\,unset)">&nbsp\;&ndash\; Enter to win a one-of-a-kind beaded bracelet and earrings.</span></p>\n\n<div style="background:transparent\; border:0px\; padding:0px\; text-align:initial"><strong>Details</strong><span style="background-color:var(--ricos-custom-p-background-color\,unset)">:</span></div>\n\n<ul>\n	<li style="text-align:initial">\n	<p style="text-align:initial"><strong>Time Slots</strong><span style="background-color:var(--ricos-custom-p-background-color\,unset)">: 45-minute sessions starting at 1:15 PM until 5:15 PM</span></p>\n	</li>\n	<li style="text-align:initial">\n	<p style="text-align:initial"><strong>Cost</strong><span style="background-color:var(--ricos-custom-p-background-color\,unset)">: $40 per bracelet.</span></p>\n\n	<ul>\n		<li style="text-align:initial">\n		<p style="text-align:initial"><span style="background-color:var(--ricos-custom-p-background-color\,unset)">We recommend that you book a time slot for each bracelet you plan to make. Most people use the full 45 minutes to design and create their bracelet.</span></p>\n		</li>\n	</ul>\n	</li>\n</ul>\n\n<p style="text-align:initial"><span style="background-color:var(--ricos-custom-p-background-color\,unset)">Spaces are limited\, so grab your girls and reserve your spot today! Let&rsquo\;s make this Galentine&rsquo\;s Day unforgettable&mdash\;because you deserve it.&nbsp\;</span></p>\n\n<p style="text-align:initial"><span style="background-color:var(--ricos-custom-p-background-color\,unset)">We can&rsquo\;t wait to see you there!</span></p>\n
LOCATION:K. Hollis Jewelers\, Boutique & Wine Bar 2030 Main St. Batavia\, IL\, 60510
UID:e.1902.26809
SEQUENCE:3
DTSTAMP:20260422T150448Z
URL:http://business.bataviachamber.org/events/details/galentine-s-beading-party-26809
END:VEVENT

END:VCALENDAR
