BEGIN:VCALENDAR
VERSION:2.0
PRODID:-//ChamberMaster//Event Calendar 2.0//EN
METHOD:PUBLISH
X-PUBLISHED-TTL:P3D
REFRESH-INTERVAL:P3D
CALSCALE:GREGORIAN
BEGIN:VEVENT
DTSTART:20090424T230000Z
DTEND:20090425T010000Z
X-MICROSOFT-CDO-ALLDAYEVENT:FALSE
SUMMARY:Funway Bowling Challenge
DESCRIPTION:Bring your employees to Funway for an evening of bowling and fun!Don't miss one of the Chamber's high energy events of the year! The Funway Bowling Challenge is a great way to entertain employees or customers for a very modest cost...just $150 for two hours of bowling and pizza for up to six people. This year we have moved it to Friday night...so bring your entire staff!We only have 20 lanes available\, so sign up TODAY!
X-ALT-DESC;FMTTYPE=text/html:<P align=left><FONT color=#0000ff size=4>Bring your employees&nbsp\;to Funway for an evening of bowling and fun!</FONT></P><P align=left><FONT color=#0000ff size=4>Don't miss one of the Chamber's high energy events of the year! The Funway Bowling Challenge is a great way to entertain employees or customers&nbsp\;for a very modest cost...just $150 for two hours of bowling and&nbsp\;pizza for up to six people. </FONT></P><P align=left><FONT color=#0000ff size=4>This year we have moved it to Friday night...so bring&nbsp\;your entire staff!</FONT></P><P align=left><FONT color=#0000ff size=4>We only have 20 lanes available\, so sign up TODAY!</FONT></P><DIV align=left><FONT color=#0000ff size=4></FONT>&nbsp\;</DIV>
LOCATION:Funway Entertainment Center
UID:e.1902.1304
SEQUENCE:3
DTSTAMP:20260421T213714Z
URL:http://business.bataviachamber.org/events/details/funway-bowling-challenge-04-24-2009-1304
END:VEVENT

END:VCALENDAR
