BEGIN:VCALENDAR
VERSION:2.0
PRODID:-//ChamberMaster//Event Calendar 2.0//EN
METHOD:PUBLISH
X-PUBLISHED-TTL:P3D
REFRESH-INTERVAL:P3D
CALSCALE:GREGORIAN
BEGIN:VEVENT
DTSTART:20250414T000000Z
DTEND:20250414T013000Z
X-MICROSOFT-CDO-ALLDAYEVENT:FALSE
SUMMARY:Full Moon Meditation
DESCRIPTION:Full Moon Meditation\n\nOnce a month at 7pm\n\n\n\nA full moon brings powerful energy\, clarity\, and awareness. This is the perfect time to release any pent-up energy\, attitudes\, wounding\, and emotion.\n\n\n\nThis event will include breathwork\, a guided meditation\, and a safe space to share and connect with others about what you experienced.\n\n\n\nHosted by Jamie Kruse & Torus Center\n\n\n\nInvestment is $36\n\nPayment and tickets can be reserved via the link. We can't wait to see you there!\n\n\n\nDates:\n\nSunday\, April 13th\n\nTuesday\, May 13th
X-ALT-DESC;FMTTYPE=text/html:<div><strong>Full Moon Meditation</strong></div>\n\n<div>Once a month at 7pm</div>\n\n<div><br />\nA full moon brings powerful energy\, clarity\, and awareness. This is the perfect time to release any pent-up energy\, attitudes\, wounding\, and emotion.</div>\n\n<div><br />\nThis event will include breathwork\, a guided meditation\, and a safe space to share and connect with others about what you experienced.</div>\n\n<div><br />\nHosted by Jamie Kruse &amp\; Torus Center</div>\n\n<div><br />\nInvestment is $36</div>\n\n<div>Payment and tickets can be reserved via the link. We can&rsquo\;t wait to see you there!</div>\n\n<div><br />\nDates:</div>\n\n<div>Sunday\, April 13th<br />\nTuesday\, May 13th&nbsp\;</div>\n
LOCATION:Torus Center for Integrative Healing 121 Flinn St Batavia\, IL 60510
UID:e.1902.26821
SEQUENCE:3
DTSTAMP:20260422T113817Z
URL:http://business.bataviachamber.org/events/details/full-moon-meditation-04-13-2025-26821
END:VEVENT

END:VCALENDAR
