BEGIN:VCALENDAR
VERSION:2.0
PRODID:-//ChamberMaster//Event Calendar 2.0//EN
METHOD:PUBLISH
X-PUBLISHED-TTL:P3D
REFRESH-INTERVAL:P3D
CALSCALE:GREGORIAN
BEGIN:VEVENT
DTSTART:20250628T150000Z
DTEND:20250628T200000Z
X-MICROSOFT-CDO-ALLDAYEVENT:FALSE
SUMMARY:French Market at Prairie Landing
DESCRIPTION:French Market is on Saturday\, June 28\, 2025 from 10:00 AM   3:00 PM.\n\nJoin us at Prairie Landing Golf Club for a vibrant French Market showcasing local makers and small businesses. Explore fresh produce\, handcrafted goods\, including jewelry\, home d cor\, gourmet treats\, and unique art. Perfect for gift shopping or a fun day out\, this event promises a memorable experience for all ages.  Best of all\, it is free to enter!\n\nMcChesney's Pub & Grill will have food and beverages available for purchase. \n\nWant to be a vendor? Book your spot by calling 630.208.7641 or email rlynn@prairielanding.com by 6.20.2025.
X-ALT-DESC;FMTTYPE=text/html:<p>French Market is on&nbsp\;Saturday\, June 28\, 2025 from 10:00 AM &ndash\; 3:00 PM.</p>\n\n<p>Join us at Prairie Landing Golf Club for a vibrant French Market showcasing local makers and small businesses. Explore fresh produce\, handcrafted goods\, including jewelry\, home d&eacute\;cor\, gourmet treats\, and unique art. Perfect for gift shopping or a fun day out\, this event promises a memorable experience for all ages.&nbsp\;&nbsp\;<em>Best of all\, it is free to enter!</em></p>\n\n<p>McChesney&rsquo\;s Pub &amp\; Grill will have food and beverages available for purchase.&nbsp\;</p>\n\n<p>Want to be a vendor? Book your spot by calling 630.208.7641 or email&nbsp\;<a href="mailto:rlynn@prairielanding.com">rlynn@prairielanding.com</a>&nbsp\;by 6.20.2025.</p>\n
LOCATION:Prairie Landing Golf Club\, 2325 Longest Drive\, West Chicago\, IL 60185
UID:e.1902.29536
SEQUENCE:3
DTSTAMP:20260422T083129Z
URL:http://business.bataviachamber.org/events/details/french-market-at-prairie-landing-29536
END:VEVENT

END:VCALENDAR
