BEGIN:VCALENDAR
VERSION:2.0
PRODID:-//ChamberMaster//Event Calendar 2.0//EN
METHOD:PUBLISH
X-PUBLISHED-TTL:P3D
REFRESH-INTERVAL:P3D
CALSCALE:GREGORIAN
BEGIN:VEVENT
DTSTART:20250427T200000Z
DTEND:20250427T213000Z
X-MICROSOFT-CDO-ALLDAYEVENT:FALSE
SUMMARY:Fox Valley Orchestra & Orchestra Chorus present "Music That Sings"
DESCRIPTION:FVO & the OC join with the Aurora University Choir in this classical concert featuring Bernstein's "Chichester Psalms"\, Dubensky's "Concerto Grosso"\, Rachmaninoff's "Vocalise in E\, Opus 34"\, and Hanson's "Symphony #2 'Romantic'\, Opus 30." Uplift your spirits with beautiful song and orchestral performance of these famous works!\n\nAnd don't miss the preconcert lecture at 2:15 pm presented by our knowledgeable\, professional musicians!\n\nStephen Squires\, conductor\, Lisa Fredenburgh\, chorus master\n\nTicket prices online until noon Sat\, Apr 26: Regular $20\, Student/Senior $18\, Child 8 and under $12. At the door\, $25\, $22\, $16
X-ALT-DESC;FMTTYPE=text/html:<p><span style="font-size:14px"><span style="font-family:verdana"><strong>FVO &amp\; the OC join with the Aurora University Choir </strong>in this classical concert featuring Bernstein&#39\;s &quot\;Chichester Psalms&quot\;\, Dubensky&#39\;s &quot\;Concerto Grosso&quot\;\, Rachmaninoff&#39\;s &quot\;Vocalise in E\, Opus 34&quot\;\, and Hanson&#39\;s &quot\;Symphony #2 &#39\;Romantic&#39\;\, Opus 30.&quot\; Uplift your spirits with&nbsp\;beautiful song and&nbsp\;orchestral performance of these famous works!<br />\n<u>And don&#39\;t miss the preconcert lecture at 2:15 pm</u> presented by our knowledgeable\, professional musicians!</span></span></p>\n\n<p><span style="font-size:14px"><span style="font-family:verdana">Stephen Squires\, conductor\, Lisa Fredenburgh\, chorus master</span></span></p>\n\n<p><span style="font-size:14px"><span style="font-family:verdana">Ticket prices online until noon Sat\, Apr 26: Regular $20\, Student/Senior $18\, Child 8 and under&nbsp\;$12. At the door\, $25\, $22\, $16</span></span></p>\n
LOCATION:Crimi Auditorium Aurora University Campus 1347 Prairie St. Aurora\, IL 60506
UID:e.1902.29443
SEQUENCE:3
DTSTAMP:20260422T113815Z
URL:http://business.bataviachamber.org/events/details/fox-valley-orchestra-orchestra-chorus-present-music-that-sings-29443
END:VEVENT

END:VCALENDAR
