BEGIN:VCALENDAR
VERSION:2.0
PRODID:-//ChamberMaster//Event Calendar 2.0//EN
METHOD:PUBLISH
X-PUBLISHED-TTL:P3D
REFRESH-INTERVAL:P3D
CALSCALE:GREGORIAN
BEGIN:VEVENT
DTSTART:20250517T200000Z
DTEND:20250517T211500Z
X-MICROSOFT-CDO-ALLDAYEVENT:FALSE
SUMMARY:Fox Valley Orchestra Chamber Concert
DESCRIPTION:Ready to feel a little "regal"? A select group of the Fox Valley Orchestra presents a concert of classical chamber music - selections composed for a small group of instruments. Traditionally\, chamber groups were crafted to fit in a palace chamber to entertain royalty. You're invited to this special "court performance"!
X-ALT-DESC;FMTTYPE=text/html:<span style="color:rgb(17\, 17\, 17)\; font-family:roboto\,open sans\,helvetica neue\,helvetica\,arial\,sans-serif\; font-size:18px">Ready to feel a little &quot\;regal&quot\;?&nbsp\;<strong>A select group of the&nbsp\;</strong></span><strong><span style="color:rgb(17\, 17\, 17)\; font-family:roboto\,open sans\,helvetica neue\,helvetica\,arial\,sans-serif\; font-size:18px"><a href="https://foxvalleyorchestra.org/" rel="nofollow" style="box-sizing: border-box\; margin: 0px\; color: rgb(0\, 93\, 143)\;" target="_blank">Fox Valley Orchestra&nbsp\;</a></span></strong><span style="color:rgb(17\, 17\, 17)\; font-family:roboto\,open sans\,helvetica neue\,helvetica\,arial\,sans-serif\; font-size:18px"><strong>presents a concert of&nbsp\;classical chamber music </strong>- selections composed for a small group of instruments. Traditionally\, chamber&nbsp\;groups were crafted to fit&nbsp\;in a palace chamber to entertain royalty. You&#39\;re invited to this special &quot\;court performance&quot\;!</span>
LOCATION:New England Congregational Church 406 W. Galena Blvd Aurora\, IL 60506
UID:e.1902.29524
SEQUENCE:3
DTSTAMP:20260424T105042Z
URL:http://business.bataviachamber.org/events/details/fox-valley-orchestra-chamber-concert-29524
END:VEVENT

END:VCALENDAR
