BEGIN:VCALENDAR
VERSION:2.0
PRODID:-//ChamberMaster//Event Calendar 2.0//EN
METHOD:PUBLISH
X-PUBLISHED-TTL:P3D
REFRESH-INTERVAL:P3D
CALSCALE:GREGORIAN
BEGIN:VEVENT
DTSTART:20250222T210000Z
DTEND:20250222T220000Z
X-MICROSOFT-CDO-ALLDAYEVENT:FALSE
SUMMARY:Fox Valley Music Consortium Chamber Concert 3 PM This Saturday!!
DESCRIPTION:The concert will feature a mix of soloists from the FVMC adult ensembles representing instrumentalists from the Fox Valley Orchestra\, the Fox Valley Brass Band\, and the Fox Valley Jazz Big Band\, as well as the talented pianist Maestro Stephen Squires.   A jazz combo will also be featured led by Big Band director Jeff Ford.  Some of the included works:  Poulenc Flute Sonata\, Ewazen's Sonata for Trombone\, and Jazz charts from George Gershwin\, Herbie Hancock along with some original compositions\, and more!"\n\n \n\nThis concert is FREE admission to all\, and donations are gratefully accepted.  We are holding this series of mini-fundraiser chamber concerts to expand our reach and to help us meet our budget to keep our performances going in the community.
X-ALT-DESC;FMTTYPE=text/html:<div>\n<p>T<span style="font-family:verdana">he concert will feature a mix of soloists from the FVMC adult ensembles representing instrumentalists from the Fox Valley Orchestra\, the Fox Valley Brass Band\, and the Fox Valley Jazz Big Band\, as well as the talented pianist Maestro Stephen Squires.&nbsp\; &nbsp\;A jazz combo will also be featured led by Big Band director Jeff Ford.&nbsp\; Some of the included works:&nbsp\; Poulenc Flute Sonata\, Ewazen&rsquo\;s Sonata for Trombone\, and Jazz charts from George Gershwin\, Herbie Hancock along with some original compositions\, and more!&rdquo\;<br />\n&nbsp\;<br />\nThis concert is FREE admission to all\, and donations are gratefully accepted.&nbsp\; We are holding this series of mini-fundraiser chamber concerts to expand our reach and to help us meet our budget to keep our performances going in the community.<br />\n&nbsp\;</span><br />\n<br />\n&nbsp\;</p>\n</div>\n\n<div>\n<div>\n<div>\n<div>&nbsp\;</div>\n</div>\n</div>\n</div>\n
LOCATION:Wesley United Methodist Church 14 N. May Street Aurora\, IL 60506
UID:e.1902.29320
SEQUENCE:3
DTSTAMP:20260422T150454Z
URL:http://business.bataviachamber.org/events/details/fox-valley-music-consortium-chamber-concert-29320
END:VEVENT

END:VCALENDAR
