BEGIN:VCALENDAR
VERSION:2.0
PRODID:-//ChamberMaster//Event Calendar 2.0//EN
METHOD:PUBLISH
X-PUBLISHED-TTL:P3D
REFRESH-INTERVAL:P3D
CALSCALE:GREGORIAN
BEGIN:VEVENT
DTSTART:20250608T210000Z
DTEND:20250608T223000Z
X-MICROSOFT-CDO-ALLDAYEVENT:FALSE
SUMMARY:Fox Valley Jazz Big Band presents ”Our Favorites"
DESCRIPTION:Wonder what jazz musicians really LIKE to play - just for fun? Fox Valley Jazz Big Band is laying down some of their favorite tunes at this concert! Come and be wowwed by these smooth & talented jazz players. They don't disappoint!\n\n\n\nEnrolled WCC students - show your current WCC ID and get in free!
X-ALT-DESC;FMTTYPE=text/html:<span style="font-family:verdana"><strong>Wonder what jazz musicians really LIKE to play - just for fun? </strong>Fox Valley Jazz Big Band is laying down some of their favorite tunes at this concert! Come and be wowwed by these smooth &amp\; talented jazz players. They don&#39\;t disappoint!</span><br />\n<br />\n<strong>Enrolled WCC students - show your current WCC ID and get in free!</strong>
LOCATION:Waubonsee Community College Auditorium Sugar Grove Campus Rt 47 and Waubonsee Drive? Sugar Grove\, IL
UID:e.1902.29525
SEQUENCE:3
DTSTAMP:20260422T083252Z
URL:http://business.bataviachamber.org/events/details/fox-valley-jazz-big-band-presents-our-favorites-29525
END:VEVENT

END:VCALENDAR
