BEGIN:VCALENDAR
VERSION:2.0
PRODID:-//ChamberMaster//Event Calendar 2.0//EN
METHOD:PUBLISH
X-PUBLISHED-TTL:P3D
REFRESH-INTERVAL:P3D
CALSCALE:GREGORIAN
BEGIN:VEVENT
DTSTART:20250619T230000Z
DTEND:20250620T010000Z
X-MICROSOFT-CDO-ALLDAYEVENT:FALSE
SUMMARY:Fox Valley Brass Band presents "A Hinckley Summer Band Free Concert"
DESCRIPTION:Fox Valley Brass Band performs A Hinckley Summer Band Concert. Bring a lawn chair\, something to sip\, and enjoy this early summer performance! FVBB will play a selection of lively and easy-listening numbers. All ages welcome! Victor Anderson\, FVBB Director.\nLocation: The Community Building lawn (100 Maple Street\, Hinckley.)\n\nOrganized by the Hinckley Historical Society. \nFox Valley Brass Band is a member of the Fox Valley Music Consortium.
X-ALT-DESC;FMTTYPE=text/html:<span style="font-family:verdana"><strong>Fox Valley Brass Band performs A Hinckley Summer Band Concert.</strong> Bring a lawn chair\, something to sip\, and enjoy this early summer performance!&nbsp\;FVBB will play a selection of lively and easy-listening numbers. All ages welcome!&nbsp\;Victor Anderson\, FVBB Director.</span>\n<p><span style="font-family:verdana"><strong>Location:</strong> The Community Building lawn (100 Maple Street\, Hinckley.)<br />\n<strong>Organized by the Hinckley Historical Society.</strong>&nbsp\;</span></p>\n<strong><span style="font-family:verdana"><em>Fox Valley Brass Band is a member of the Fox Valley Music Consortium.</em></span></strong>
LOCATION:Hinckley Community Building 100 Maple Street Hinckley\, IL 60520
UID:e.1902.29551
SEQUENCE:3
DTSTAMP:20260424T130015Z
URL:http://business.bataviachamber.org/events/details/fox-valley-brass-band-presents-summer-pops-2025-a-hinckley-summer-band-free-concert-29551
END:VEVENT

END:VCALENDAR
