BEGIN:VCALENDAR
VERSION:2.0
PRODID:-//ChamberMaster//Event Calendar 2.0//EN
METHOD:PUBLISH
X-PUBLISHED-TTL:P3D
REFRESH-INTERVAL:P3D
CALSCALE:GREGORIAN
BEGIN:VEVENT
DTSTART:20250330T200000Z
DTEND:20250330T213000Z
X-MICROSOFT-CDO-ALLDAYEVENT:FALSE
SUMMARY:Fox Valley Brass Band Presents A Collaborative Concert with the Illinois Brass Band!
DESCRIPTION:Don't miss these two fantastic brass bands performing together - brass bands at their best! Fox Valley Brass Band and the award-winning Illinois Brass Band join forces for this collaborative concert. The Fox Valley Brass Band hosts and performs this concert with Illinois Brass Band before the IBB travels to the North American Brass Band Association Championships! \n\n\n\nFox Valley Brass Band is a member of the Fox Valley Music Consortium.
X-ALT-DESC;FMTTYPE=text/html:<span style="font-family:verdana"><span style="color:rgb(0\, 0\, 0)"><strong>Don&#39\;t miss these two fantastic brass bands performing together - brass bands at their best!</strong> Fox Valley Brass Band and the award-winning Illinois Brass Band join forces for this collaborative concert. The Fox Valley Brass Band hosts and performs this concert with Illinois Brass Band before the IBB travels to the North American Brass Band Association Championships!&nbsp\;</span><br />\n<br />\n<span style="color:#0000CD"><em>Fox Valley Brass Band is a member of the Fox Valley Music Consortium.</em></span></span>
LOCATION:Wesley United Methodist Church 14 N. May Street Aurora\, IL 60506
UID:e.1902.29378
SEQUENCE:3
DTSTAMP:20260422T131708Z
URL:http://business.bataviachamber.org/events/details/fox-valley-brass-band-presents-a-collaborative-concert-with-the-illinois-brass-band-29378
END:VEVENT

END:VCALENDAR
